BEGIN:VCALENDAR
VERSION:2.0
PRODID:-//wp-events-plugin.com//7.2.3.1//EN
TZID:Europe/Paris
X-WR-TIMEZONE:Europe/Paris
BEGIN:VEVENT
UID:325@egliseverte.org
DTSTART;TZID=Europe/Paris:20240514T190000
DTEND;TZID=Europe/Paris:20240514T223000
DTSTAMP:20240503T163347Z
URL:https://www.egliseverte.org/agenda/conference-rencontre-avec-jean-mich
 el-lecerf-la-joie-de-manger-59/
SUMMARY:Conférence Rencontre avec Jean-Michel LECERF : "La joie de Manger"
  (59)
DESCRIPTION:Plus que jamais nous nous interrogeons sur notre alimentation.\
 n\nAu point d’en oublier parfois que boire et manger c’est aussi goût
 er\, savourer\, réunir\, partager\, rencontrer...\n\nDans son livre “La
  joie de manger” \, Jean-Michel LECERF partage son cheminement sur le su
 jet\, sa vision personnelle de la relation que nous entretenons avec la no
 urriture : par rapport à nous-mêmes\, aux autres\, à notre environnemen
 t. Il nous invite également à retrouver les sources spirituelles et cult
 urelles de notre relation à la nourriture.\n\nMédecin\, endocrinologue e
 t spécialiste de la nutrition\, c’est fort d’un double regard\, de sc
 ientifique avisé et de chrétien (en tant que Diacre)\, que Jean-Michel L
 ecerf nous offre une synthèse originale et confiante sur la place et le s
 ens de l’alimentation humaine.\n\nPossibilité d'acheter/faire dédicace
 r les livres de l'auteur lors de cette soirée.\n\nhttps://www.hautmont.or
 g/propositions/conference-la-joie-de-manger/le-mardi-14-mai-2024-de-19h30-
 a-21h30
ATTACH;FMTTYPE=image/jpeg:https://www.egliseverte.org/wp-content/uploads/2
 023/10/Offrandes-cel-creation.jpg
LOCATION:Centre spirituel du Hautmont (59)\, 31 rue Mirabeau\, Mouvaux\, Fr
 ance\, 59420\, Hauts de France\, France
GEO:50.705277;3.129151
X-APPLE-STRUCTURED-LOCATION;VALUE=URI;X-ADDRESS=31 rue Mirabeau\, Mouvaux\,
  France\, 59420\, Hauts de France\, France;X-APPLE-RADIUS=100;X-TITLE=Cent
 re spirituel du Hautmont (59):geo:50.705277,3.129151
END:VEVENT
BEGIN:VTIMEZONE
TZID:Europe/Paris
X-LIC-LOCATION:Europe/Paris
BEGIN:DAYLIGHT
DTSTART:20240331T030000
TZOFFSETFROM:+0100
TZOFFSETTO:+0200
TZNAME:CEST
END:DAYLIGHT
END:VTIMEZONE
END:VCALENDAR