BEGIN:VCALENDAR
VERSION:2.0
PRODID:-//wp-events-plugin.com//7.2.3.1//EN
TZID:Europe/Paris
X-WR-TIMEZONE:Europe/Paris
BEGIN:VEVENT
UID:650@egliseverte.org
DTSTART;TZID=Europe/Paris:20260314T200000
DTEND;TZID=Europe/Paris:20260314T200000
DTSTAMP:20260212T101943Z
URL:https://www.egliseverte.org/agenda/conference-sur-la-terre-comme-au-ci
 el-une-conversion-ecologique-porteuse-desperance/
SUMMARY:Conférence "Sur la Terre comme au Ciel ? Une conversion écologiqu
 e porteuse d'espérance."
DESCRIPTION:Conférence de Martin KOPP\, théologien protestant.\n\nEntrée
  libre.
ATTACH;FMTTYPE=image/jpeg:https://www.egliseverte.org/wp-content/uploads/2
 026/02/Conference-Martin-KOPP-Compiegne-14-03-2026.png
LOCATION:Temple protestant\, 18 A rue de Clamart à Compiègne\, 18 A rue d
 e Clamart\, Compiègne\, Oise\, 60200\, Hauts de France\, France
GEO:49.412817;2.827392
X-APPLE-STRUCTURED-LOCATION;VALUE=URI;X-ADDRESS=18 A rue de Clamart\, Compi
 ègne\, Oise\, 60200\, Hauts de France\, France;X-APPLE-RADIUS=100;X-TITLE
 =Temple protestant\, 18 A rue de Clamart à Compiègne:geo:49.412817,2.827
 392
END:VEVENT
BEGIN:VTIMEZONE
TZID:Europe/Paris
X-LIC-LOCATION:Europe/Paris
BEGIN:STANDARD
DTSTART:20251026T020000
TZOFFSETFROM:+0200
TZOFFSETTO:+0100
TZNAME:CET
END:STANDARD
END:VTIMEZONE
END:VCALENDAR