BEGIN:VCALENDAR
VERSION:2.0
PRODID:-//wp-events-plugin.com//7.2.3.1//EN
TZID:Europe/Paris
X-WR-TIMEZONE:Europe/Paris
BEGIN:VEVENT
UID:312@egliseverte.org
DTSTART;TZID=Europe/Paris:20240418T183000
DTEND;TZID=Europe/Paris:20240418T203000
DTSTAMP:20240308T150133Z
URL:https://www.egliseverte.org/agenda/conference-sur-le-desinvestissement
 -44/
SUMMARY:Conférence sur le désinvestissement (44)
DESCRIPTION:Quel est l’impact de notre argent sur le climat ? Quelle est 
 la part des fonds investis dans les énergies fossiles\, est-il possible d
 e la réduire ? Ce sont les questions qu’abordera Lucie Pinson\, fondatr
 ice de Reclaim Finance.\n\nPlus d'informations sur le désinvestissement p
 our les communautés chrétiennes : https://lutte-et-contemplation.org/cam
 pagne-de-desinvestissement-des-energies-fossiles/
ATTACH;FMTTYPE=image/jpeg:https://www.egliseverte.org/wp-content/uploads/2
 024/03/Affiche-V3-f.jpg
LOCATION:Ecole Centrale\, 1 rue de la Noë \, Nantes\, Loire-Atlantique\, 4
 4000\, Pays de la Loire\, France
X-APPLE-STRUCTURED-LOCATION;VALUE=URI;X-ADDRESS=1 rue de la Noë \, Nantes\
 , Loire-Atlantique\, 44000\, Pays de la Loire\, France;X-APPLE-RADIUS=100;
 X-TITLE=Ecole Centrale:geo:0,0
END:VEVENT
BEGIN:VTIMEZONE
TZID:Europe/Paris
X-LIC-LOCATION:Europe/Paris
BEGIN:DAYLIGHT
DTSTART:20240331T030000
TZOFFSETFROM:+0100
TZOFFSETTO:+0200
TZNAME:CEST
END:DAYLIGHT
END:VTIMEZONE
END:VCALENDAR