BEGIN:VCALENDAR
VERSION:2.0
PRODID:-//wp-events-plugin.com//7.2.3.1//EN
TZID:Europe/Paris
X-WR-TIMEZONE:Europe/Paris
BEGIN:VEVENT
UID:270@egliseverte.org
DTSTART;TZID=Europe/Paris:20230709T000000
DTEND;TZID=Europe/Paris:20230715T000000
DTSTAMP:20231120T161059Z
URL:https://www.egliseverte.org/agenda/contempler-la-creation-en-montagne-
 38/
SUMMARY:Contempler la création en montagne (38)
DESCRIPTION:Marcher en montagne\, prendre le temps de s’arrêter pour con
 templer la création\, ouvrir tous ses sens à ce qui nous entoure\, se la
 isser toucher par la nature et y découvrir la présence de Dieu\, laisser
  résonner des textes bibliques sur la Création\, se mettre à l’écout
 e du message du pape François dans l’encyclique Laudato Si’ et entrer
  dans une nouvelle relation à la nature.\nAlternance de :\n. Marche : 3 
 à 4h de marche par jour – 600m de dénivelé maximum\,\n. Ateliers\, ex
 périences sensorielles dans la nature\,\n. Enseignements\,\n. Temps de pr
 ière avec des textes sur la création.\n\nSorties à la journée et hébe
 rgement à Saint-Hugues.\n\nhttps://www.sainthugues.fr/contempler-la-creat
 ion-en-montagne-09-07-2023/
ATTACH;FMTTYPE=image/jpeg:https://www.egliseverte.org/wp-content/uploads/2
 021/06/waterfall-5365926_640.jpeg
LOCATION:Centre spirituel Saint-Hugues\, 313 Chem. de Billerey\, Biviers\, 
 38330\, France
GEO:45.23494;5.790398
X-APPLE-STRUCTURED-LOCATION;VALUE=URI;X-ADDRESS=313 Chem. de Billerey\, Biv
 iers\, 38330\, France;X-APPLE-RADIUS=100;X-TITLE=Centre spirituel Saint-Hu
 gues:geo:45.23494,5.790398
END:VEVENT
BEGIN:VTIMEZONE
TZID:Europe/Paris
X-LIC-LOCATION:Europe/Paris
BEGIN:DAYLIGHT
DTSTART:20230326T030000
TZOFFSETFROM:+0100
TZOFFSETTO:+0200
TZNAME:CEST
END:DAYLIGHT
END:VTIMEZONE
END:VCALENDAR