BEGIN:VCALENDAR
VERSION:2.0
PRODID:-//wp-events-plugin.com//7.2.3.1//EN
TZID:Europe/Paris
X-WR-TIMEZONE:Europe/Paris
BEGIN:VEVENT
UID:595@egliseverte.org
DTSTART;TZID=Europe/Paris:20251005T103000
DTEND;TZID=Europe/Paris:20251005T120000
DTSTAMP:20251003T073456Z
URL:https://www.egliseverte.org/agenda/culte-pour-le-temps-de-la-creation/
SUMMARY:Culte pour le temps de la création
DESCRIPTION:Culte oecuménique dans le cadre du Temps pour la Création 202
 5
ATTACH;FMTTYPE=image/jpeg:https://www.egliseverte.org/wp-content/uploads/2
 025/06/TPC25-statut-FB-scaled.png
LOCATION:Temple de Blois\, Rampe Chambourdin\, Blois\, Loir-et-cher\, 41000
 \, Centre-Val de Loire\, France
GEO:47.587948;1.329574
X-APPLE-STRUCTURED-LOCATION;VALUE=URI;X-ADDRESS=Rampe Chambourdin\, Blois\,
  Loir-et-cher\, 41000\, Centre-Val de Loire\, France;X-APPLE-RADIUS=100;X-
 TITLE=Temple de Blois:geo:47.587948,1.329574
END:VEVENT
BEGIN:VTIMEZONE
TZID:Europe/Paris
X-LIC-LOCATION:Europe/Paris
BEGIN:DAYLIGHT
DTSTART:20250330T030000
TZOFFSETFROM:+0100
TZOFFSETTO:+0200
TZNAME:CEST
END:DAYLIGHT
END:VTIMEZONE
END:VCALENDAR