BEGIN:VCALENDAR
VERSION:2.0
PRODID:-//wp-events-plugin.com//7.2.3.1//EN
TZID:Europe/Paris
X-WR-TIMEZONE:Europe/Paris
BEGIN:VEVENT
UID:395@egliseverte.org
DTSTART;TZID=Europe/Paris:20240915T180000
DTEND;TZID=Europe/Paris:20240915T190000
DTSTAMP:20240913T130448Z
URL:https://www.egliseverte.org/agenda/culte-sous-les-arbres-69/
SUMMARY:Culte "sous les arbres" (69)
DESCRIPTION:
ATTACH;FMTTYPE=image/jpeg:https://www.egliseverte.org/wp-content/uploads/2
 018/02/tree-3092026_1920.jpg
LOCATION:Temple EPUdF Oullin\, rue de la Sarra\, Oullins\, 69600\, France
X-APPLE-STRUCTURED-LOCATION;VALUE=URI;X-ADDRESS=rue de la Sarra\, Oullins\,
  69600\, France;X-APPLE-RADIUS=100;X-TITLE=Temple EPUdF Oullin:geo:0,0
END:VEVENT
BEGIN:VTIMEZONE
TZID:Europe/Paris
X-LIC-LOCATION:Europe/Paris
BEGIN:DAYLIGHT
DTSTART:20240331T030000
TZOFFSETFROM:+0100
TZOFFSETTO:+0200
TZNAME:CEST
END:DAYLIGHT
END:VTIMEZONE
END:VCALENDAR