BEGIN:VCALENDAR
VERSION:2.0
PRODID:-//wp-events-plugin.com//7.2.3.1//EN
TZID:Europe/Paris
X-WR-TIMEZONE:Europe/Paris
BEGIN:VEVENT
UID:600@egliseverte.org
DTSTART;TZID=Europe/Paris;VALUE=DATE:20251108
DTEND;TZID=Europe/Paris;VALUE=DATE:20251112
DTSTAMP:20251011T125310Z
URL:https://www.egliseverte.org/agenda/cultive-tes-racines-et-ta-joie/
SUMMARY:Cultive tes racines… et ta joie !
DESCRIPTION:Tu as aimé l’esprit de Brother Sun 🌞 ou tu veux le décou
 vrir ?\nAlors rejoins-nous pour un week-end chantier au sanctuaire de Rein
 acker (Alsace) du 8 au 11 novembre 2025 avec les sœurs de Saint François
  d’Assise !\n\nAu programme :\n🌱 prière et Jardinage au sanctuaire\n
 📖 Échanges sur la Parole de Dieu et La création\n🤝 Vie fraternelle
  avec les sœurs de Saint François d'Assise\n\n💸 35 € (pension compl
 ète – chacun selon ses moyens)\n🚗 À 30 min de Strasbourg | Navettes
  depuis Saverne\n📩 soeurs.reinacker@gmail.com / 03 88 03 23 26\n\n✨ 
 “Cultive tes racines !”\nUn temps pour nourrir ta foi\, respirer et vi
 vre la fraternité franciscaine dans le même esprit que Brother Sun 🌻
ATTACH;FMTTYPE=image/jpeg:https://www.egliseverte.org/wp-content/uploads/2
 025/10/Reinacker-week-end-racines.jpg
LOCATION:Au Sanctuaire Notre-Dame de Reinacker\, 21 Rue du Couvent\,  \, Re
 utenbourg\, 67440\, France
X-APPLE-STRUCTURED-LOCATION;VALUE=URI;X-ADDRESS=21 Rue du Couvent\,  \, Reu
 tenbourg\, 67440\, France;X-APPLE-RADIUS=100;X-TITLE=Au Sanctuaire Notre-D
 ame de Reinacker:geo:0,0
END:VEVENT
BEGIN:VTIMEZONE
TZID:Europe/Paris
X-LIC-LOCATION:Europe/Paris
BEGIN:STANDARD
DTSTART:20251026T020000
TZOFFSETFROM:+0200
TZOFFSETTO:+0100
TZNAME:CET
END:STANDARD
END:VTIMEZONE
END:VCALENDAR