BEGIN:VCALENDAR
VERSION:2.0
PRODID:-//wp-events-plugin.com//7.2.3.1//EN
TZID:Europe/Paris
X-WR-TIMEZONE:Europe/Paris
BEGIN:VEVENT
UID:284@egliseverte.org
DTSTART;TZID=Europe/Paris:20230909T093000
DTEND;TZID=Europe/Paris:20230909T153000
DTSTAMP:20231120T161114Z
URL:https://www.egliseverte.org/agenda/cultivons-la-terre-autrement-67/
SUMMARY:Cultivons la Terre autrement (67)
DESCRIPTION:Église Verte vous invite à Canop’Terre\,\néco-lieu pédago
 gique au cœur de l’Alsace\npour s’éveiller à des pratiques renouvel
 ées\nen réponse aux défis de l’eau\, des sols\, de\nl’accès à une
  nourriture saine pour tous.
ATTACH;FMTTYPE=image/jpeg:https://www.egliseverte.org/wp-content/uploads/2
 023/02/index.jpeg
LOCATION:Canop’Terre\, 33 avenue de la gare\, Ersein\, France\, 67150\, F
 rance
GEO:48.420781;7.650755
X-APPLE-STRUCTURED-LOCATION;VALUE=URI;X-ADDRESS=33 avenue de la gare\, Erse
 in\, France\, 67150\, France;X-APPLE-RADIUS=100;X-TITLE=Canop’Terre:geo:
 48.420781,7.650755
END:VEVENT
BEGIN:VTIMEZONE
TZID:Europe/Paris
X-LIC-LOCATION:Europe/Paris
BEGIN:DAYLIGHT
DTSTART:20230326T030000
TZOFFSETFROM:+0100
TZOFFSETTO:+0200
TZNAME:CEST
END:DAYLIGHT
END:VTIMEZONE
END:VCALENDAR