BEGIN:VCALENDAR
VERSION:2.0
PRODID:-//wp-events-plugin.com//7.2.3.1//EN
TZID:Europe/Paris
X-WR-TIMEZONE:Europe/Paris
BEGIN:VEVENT
UID:490@egliseverte.org
DTSTART;TZID=Europe/Paris:20250620T000000
DTEND;TZID=Europe/Paris:20250622T000000
DTSTAMP:20250514T153421Z
URL:https://www.egliseverte.org/agenda/dans-les-pas-de-francois-laudato-si
 -et-travail-qui-relie/
SUMMARY:Dans les pas de François. Laudato Si' et Travail qui relie
DESCRIPTION:Une retraite écospirituelle\, douce\, simple et fraternelle po
 ur vivre notre relation à la nature et à nous-mêmes dans le partage ave
 c d’autres personnes en chemin.\n\nLa grande maison « Ker Francesco &am
 p\; Luna » à l’île aux moines (56) (baptisée en hommage au saint et 
 au pape) s’ouvre pour accueillir une proposition spontanée de temps de 
 partage\, de prière et de nature pour des personnes en recherche autour d
 e la question écospirituelle et désireuses de vivre un temps spirituel a
 u calme tout en approfondissant leur lien à la Terre et au Vivant.\n\nLes
  contenus :\n\n– Des ateliers expérienciels : Travail qui relie\, balad
 es à la rencontre des plantes sauvages\, cuisine sauvage…\n– Des temp
 s de méditation et de prière dans l’espace dédié\n– Des temps d’
 écriture et de création éco-artistiques\n– Des temps de lecture de l
 ’encyclique et de textes inspirants d’autres traditions\n– Des temps
  de partage en groupe\n– Des temps au jardin\, les mains dans la terre\n
 – De la cuisine ensemble\, des balades\, des bains de mer et une option 
 kayak possible\n– Du temps libre\n\nLa facilitation\nLe préparation et 
 l’accompagnement de ces journées sera portée par Christine Kristof –
  écojournaliste\, fondatrice de l’association AnimaTerra et facilitatri
 ce du Travail qui Relie\, habitante de la maison\, et en gestion partagée
  pour certaines activités et tâches\n\nLes journées seront rythmées pa
 r une alternance entre les différentes propositions\, avec un minimum de 
 2 ateliers de Travail qui relie par jour\, 2 méditations et 2 lectures de
  textes….\n\nLes tarifs\nProposition d’un forfait 2 jours/une nuit (in
 cluant l’hébergement\, la nourriture et l’animation du samedi matin a
 u dimanche 16h) à partir de 125€ + participation consciente**. Pour une
  arrivée le vendredi soir\, ou une nuit supplémentaire le dimanche\, ajo
 uter 30€ (nuitée).\n\nLa nourriture\nDurant le temps du stage (samedi/d
 imanche)\, la cuisine sera préparée en commun sur la base de produits bi
 o\, végétariens\, sans gluten acheté au préalable sur le continent.\nL
 es soirs du vendredi et du dimanche\, le repas est proposé à 15€ ou li
 bre (si vous souhaitez aller au restaurant ou un pic nique)\n\nLe séjour 
 prolongé\nIl vous est possible de prolonger votre séjour si vous le souh
 aitez. La nuitée est alors à 35€ (au lieu de 50€)\n\nLa question fin
 ancière ne doit pas vous empêcher de venir. On en discute !\n\n*Le trava
 il qui relie\, développé par l’écophilosophe Joanna Macy\, est une m
 éthodologie de transformation individuelle et collective au service de la
  Terre et du Vivant. Il s’expérimente dans des ateliers en groupe à tr
 avers une spirale en quatre temps : s’ancrer dans la gratitude pour la v
 ie \; reconnaître et honorer notre douleur pour le monde \; changer de re
 gard et s’engager dans une action juste en lien avec d’autres personne
 s.\n\n** La participation consciente est un mode de rétribution qui quest
 ionne notre relation à l’argent et notre façon d’échanger nos riche
 sses. Elle correspond à la somme que vous souhaitez ou pouvez donner en c
 onscience pour ce que vous avez vécu. Elle offre potentiellement un chemi
 n de transformation individuelle et collective\, et permet notamment à de
 s personnes disposant de faibles revenus de participer à une activité to
 ut en autorisant celles qui le peuvent à soutenir avec justesse le travai
 l de facilitation.\n\nINSCRIPTIONS SUR HELLO ASSO :\n\nhttps://www.helloas
 so.com/associations/animaterra/evenements/laudato-si-et-travail-qui-relie-
 a-l-ile-aux-moines\n\n&nbsp\;
ATTACH;FMTTYPE=image/jpeg:https://www.egliseverte.org/wp-content/uploads/2
 025/05/photo_2025-04-29_14-23-03.jpg
LOCATION:Ker Francesco Ile aux Moines\, Ker Francesco\, rue du Rest\, ile a
 ux moines\, 56780\, Morbihan\, France
X-APPLE-STRUCTURED-LOCATION;VALUE=URI;X-ADDRESS=Ker Francesco\, rue du Rest
 \, ile aux moines\, 56780\, Morbihan\, France;X-APPLE-RADIUS=100;X-TITLE=K
 er Francesco Ile aux Moines:geo:0,0
END:VEVENT
BEGIN:VTIMEZONE
TZID:Europe/Paris
X-LIC-LOCATION:Europe/Paris
BEGIN:DAYLIGHT
DTSTART:20250330T030000
TZOFFSETFROM:+0100
TZOFFSETTO:+0200
TZNAME:CEST
END:DAYLIGHT
END:VTIMEZONE
END:VCALENDAR