BEGIN:VCALENDAR
VERSION:2.0
PRODID:-//wp-events-plugin.com//7.2.3.1//EN
TZID:Europe/Paris
X-WR-TIMEZONE:Europe/Paris
BEGIN:VEVENT
UID:597@egliseverte.org
DTSTART;TZID=Europe/Paris;VALUE=DATE:20250915
DTEND;TZID=Europe/Paris;VALUE=DATE:20251020
DTSTAMP:20251006T090845Z
URL:https://www.egliseverte.org/agenda/de-laudato-si-a-la-cop30-pour-une-e
 cologie-integrale/
SUMMARY:De Laudato Si' à la COP30\, pour une écologie intégrale
DESCRIPTION:"De Laudato Si à la COP30 \; pour une écologie intégrale" se
 ra le sujet de notre soirée table ronde de jeudi 16 octobre prochain\, da
 ns notre église de Notre Dame de l'Arche d'Alliance Paris 15ème. Elle se
 ra animée avec le Père Olivier Dewavrin\, ingénier\, prêtre jésuite\,
  coordinateur des congrégations religieuses pour la COP30 et M Jean-Guill
 aume Peladan\, ingénieur\, chief Mission Officer chez Sycomore AM.\n\nEn 
 même temps\, l'exposition Laudato Si' présentant des textes de l'encycli
 que du pape François illustrés par les photos de Yann Arthus Bertrand es
 t ouverte à tous (dans la baptistère de l'église) depuis le 15/09 jusqu
 'au 19/10\n\nVoilà ce qui peut aider tous les paroissiens à mieux compre
 ndre ce qu'est la conversion intégrale réclamée par le pape François.\
 n\nMembres d'Eglise Verte\, vous êtes les bienvenus dans notre paroisse p
 our visiter l'exposition qui a déjà beaucoup de succès et partager nos 
 réflexions sur le rôle des COP à l'aune de Laudato SI'.\n\nFraternellem
 ent\n\nL'équipe Eglise Verte NDAA
ATTACH;FMTTYPE=image/jpeg:https://www.egliseverte.org/wp-content/uploads/2
 025/10/1.png
LOCATION:Eglise Notre Dame de l'Arche d'Alliance\, 81 rue d'Alleray\, Paris
  \, 75015\, France
GEO:48.836647;2.308526
X-APPLE-STRUCTURED-LOCATION;VALUE=URI;X-ADDRESS=81 rue d'Alleray\, Paris \,
  75015\, France;X-APPLE-RADIUS=100;X-TITLE=Eglise Notre Dame de l'Arche d'
 Alliance:geo:48.836647,2.308526
END:VEVENT
BEGIN:VTIMEZONE
TZID:Europe/Paris
X-LIC-LOCATION:Europe/Paris
BEGIN:DAYLIGHT
DTSTART:20250330T030000
TZOFFSETFROM:+0100
TZOFFSETTO:+0200
TZNAME:CEST
END:DAYLIGHT
END:VTIMEZONE
END:VCALENDAR