BEGIN:VCALENDAR
VERSION:2.0
PRODID:-//wp-events-plugin.com//7.2.3.1//EN
TZID:Europe/Paris
X-WR-TIMEZONE:Europe/Paris
BEGIN:VEVENT
UID:454@egliseverte.org
DTSTART;TZID=Europe/Paris;VALUE=DATE:20250314
DTEND;TZID=Europe/Paris;VALUE=DATE:20250317
DTSTAMP:20250224T100707Z
URL:https://www.egliseverte.org/agenda/debout-ensemble-face-au-defi-ecolog
 iques-videos-the-week/
SUMMARY:Debout\, ensemble\, face au défi écologique (autour des trois vid
 éos The Week) (59)
DESCRIPTION:Nous vous proposons de vivre un week-end au couvent des dominic
 ains de Lille\, de partager leur vie quotidienne des frères et leur vie d
 e prière\, pour suivre\, à la lumière de la foi\, le parcours en trois 
 vidéos "The Week". Le week-end commence le vendredi soir et se termine le
  dimanche en début d'après-midi.\n\nInscription : https://weekend.retrai
 tedanslaville.org/les-week-ends-au-couvent-inscription/weekend___76
ATTACH;FMTTYPE=image/jpeg:https://www.egliseverte.org/wp-content/uploads/2
 025/02/Capture-decran-2025-02-23-a-15.56.13.png
LOCATION:Couvent des Dominicains à Lille\, 7 avenue Salomon\, Lille\, Nord
 \, 59000\, Hauts de France\, France
X-APPLE-STRUCTURED-LOCATION;VALUE=URI;X-ADDRESS=7 avenue Salomon\, Lille\, 
 Nord\, 59000\, Hauts de France\, France;X-APPLE-RADIUS=100;X-TITLE=Couvent
  des Dominicains à Lille:geo:0,0
END:VEVENT
BEGIN:VTIMEZONE
TZID:Europe/Paris
X-LIC-LOCATION:Europe/Paris
BEGIN:STANDARD
DTSTART:20241027T020000
TZOFFSETFROM:+0200
TZOFFSETTO:+0100
TZNAME:CET
END:STANDARD
END:VTIMEZONE
END:VCALENDAR