BEGIN:VCALENDAR
VERSION:2.0
PRODID:-//wp-events-plugin.com//7.2.3.1//EN
TZID:Europe/Paris
X-WR-TIMEZONE:Europe/Paris
BEGIN:VEVENT
UID:339@egliseverte.org
DTSTART;TZID=Europe/Paris:20240923T203000
DTEND;TZID=Europe/Paris:20240923T214500
DTSTAMP:20240905T131206Z
URL:https://www.egliseverte.org/agenda/decouvrir-le-parcours-eglise-verte-
 familles-en-ligne-2/
SUMMARY:Découvrir le parcours Église verte familles (en ligne)
DESCRIPTION:Le parcours Église verte familles s’adresse à toutes les fa
 milles chrétiennes qui souhaitent prendre soin de la création en famille
 . Il s’organise sous la forme d’un parcours qui alterne des rencontres
  en groupe avec d’autres familles et des temps de partage en famille. 13
  thématiques ancrées dans la vie quotidienne des familles peuvent ainsi 
 être abordées tout au long du parcours : alimentation\, habitudes de con
 sommation\, mobilité\, logement\, eau\, énergies\, religion et spiritual
 ité\, solidarité\, etc. Chaque thématique est abordée en 3 étapes : D
 iagnostiquer\, Dialoguer et Décider.\n\nVous aussi\, vous aimeriez progre
 sser en famille vers un mode de vue plus écologique ? N’hésitez plus e
 t lancez un groupe près de chez vous !\n\nUne réunion de découverte du 
 parcours auront lieu en ligne sur zoom le lundi 23 septembre 2024 de 20h30
  à 21h45 avec le témoignage de Priscillia de Corson qui a lancé un parc
 ours Église verte familles dans la paroisse de Cluny Saint Benoît (71) e
 ntre 2022 et 2024.\n\nPour participer\, merci de vous inscrire sur le form
 ulaire dédié : M'inscrire\n\nPour toute question\, vous pouvez contacter
  Delphine de Monjour : familles[a]egliseverte.org
ATTACH;FMTTYPE=image/jpeg:https://www.egliseverte.org/wp-content/uploads/2
 022/07/Decouvrez-Eglise-verte-familles.png
LOCATION:https://www.helloasso.com/associations/eglise-verte/evenements/reu
 nion-de-decouverte-du-parcours-eglise-verte-familles-1
END:VEVENT
BEGIN:VTIMEZONE
TZID:Europe/Paris
X-LIC-LOCATION:Europe/Paris
BEGIN:DAYLIGHT
DTSTART:20240331T030000
TZOFFSETFROM:+0100
TZOFFSETTO:+0200
TZNAME:CEST
END:DAYLIGHT
END:VTIMEZONE
END:VCALENDAR