BEGIN:VCALENDAR
VERSION:2.0
PRODID:-//wp-events-plugin.com//7.2.3.1//EN
TZID:Europe/Paris
X-WR-TIMEZONE:Europe/Paris
BEGIN:VEVENT
UID:506@egliseverte.org
DTSTART;TZID=Europe/Paris;VALUE=DATE:20251010
DTEND;TZID=Europe/Paris;VALUE=DATE:20251013
DTSTAMP:20250716T142405Z
URL:https://www.egliseverte.org/agenda/deni-ecologique-reagir-festival-de-
 lecologie-de-st-jacut/
SUMMARY:Déni écologique : réagir ! Festival de l'écologie de St Jacut
DESCRIPTION:Pour sa quatrième édition\, le Festival de l’Écologie de l
 ’Abbaye de Saint Jacut cherchera à dessiner les contours d’une néces
 saire résistance face à une régression dangereuse pour l’avenir de la
  planète et de ses habitants. En effet\, avec le retour au pouvoir en jan
 vier 2025 de Donald Trump\, soutenu à la fois par les libertariens de la 
 Silicon Valley et d’autres dirigeants populistes\, le chaos du monde s
 ’est aggravé dans tous les domaines. Ennemi des faits scientifiques\, c
 limatosceptique revendiqué et hostile à toute législation environnement
 ale\, le président de la première puissance mondiale est ainsi devenu le
  chef de file du déni écologique avec des répercussions dévastatrices 
 non seulement aux États-Unis mais dans le monde entier.\n\nDans cette act
 ualité parfois angoissante\, comment continuer à donner envie à changer
  le monde dans un sens plus écologique\, juste et solidaire ? Ce sera le 
 fil conducteur de nos conférences\, tables rondes et ateliers\, toujours 
 en fidélité à l’encyclique Laudato Si' et dans un esprit d’ouvertur
 e et d’espérance. Avec aussi comme respiration des promenades-découver
 tes dans cette belle côte d’Emeraude\, perle de la Bretagne.\n\nDétail
 s et inscription : https://www.abbaye-st-jacut.com/programmation/detail/f
 estival-ecologie-2025
ATTACH;FMTTYPE=image/jpeg:https://www.egliseverte.org/wp-content/uploads/2
 025/07/festival-st-jacut-2025.png
LOCATION:Abbaye de Saint-Jacut (22)\, Abbaye de Saint-Jacut\, Saint-Jacut-d
 e-la-Mer\, Côtes d'Armor\, 22750\, Bretagne\, France
GEO:48.60278;-2.191041
X-APPLE-STRUCTURED-LOCATION;VALUE=URI;X-ADDRESS=Abbaye de Saint-Jacut\, Sai
 nt-Jacut-de-la-Mer\, Côtes d'Armor\, 22750\, Bretagne\, France;X-APPLE-RA
 DIUS=100;X-TITLE=Abbaye de Saint-Jacut (22):geo:48.60278,-2.191041
END:VEVENT
BEGIN:VTIMEZONE
TZID:Europe/Paris
X-LIC-LOCATION:Europe/Paris
BEGIN:DAYLIGHT
DTSTART:20250330T030000
TZOFFSETFROM:+0100
TZOFFSETTO:+0200
TZNAME:CEST
END:DAYLIGHT
END:VTIMEZONE
END:VCALENDAR