BEGIN:VCALENDAR
VERSION:2.0
PRODID:-//wp-events-plugin.com//7.2.3.1//EN
TZID:Europe/Paris
X-WR-TIMEZONE:Europe/Paris
BEGIN:VEVENT
UID:652@egliseverte.org
DTSTART;TZID=Europe/Paris:20260228T100000
DTEND;TZID=Europe/Paris:20260328T120000
DTSTAMP:20260218T165633Z
URL:https://www.egliseverte.org/agenda/detox-la-terre-careme-2026/
SUMMARY:DETOX LA TERRE CAREME 2026
DESCRIPTION:Suite au ciné-débat interactif autour de la Lettre\, en mars 
 2025\, nous organisons 3 matinées pendant le temps de carême 2026\, à p
 artir de la proposition de carême DETOX LA TERRE.\nVoir le détail et dé
 roulé sur l'affiche en pièce jointe.
ATTACH;FMTTYPE=image/jpeg:https://www.egliseverte.org/wp-content/uploads/2
 026/02/affiche-recto-detox.jpg
LOCATION:MAISON DE SEL\, PLACE DE L'EGLISE\, LA SEGUINIERE\, MAINE ET LOIRE
 \, 49280\, PAYS DE LOIRE\, France
GEO:47.06273;-0.94021
X-APPLE-STRUCTURED-LOCATION;VALUE=URI;X-ADDRESS=PLACE DE L'EGLISE\, LA SEGU
 INIERE\, MAINE ET LOIRE\, 49280\, PAYS DE LOIRE\, France;X-APPLE-RADIUS=10
 0;X-TITLE=MAISON DE SEL:geo:47.06273,-0.94021
END:VEVENT
BEGIN:VTIMEZONE
TZID:Europe/Paris
X-LIC-LOCATION:Europe/Paris
BEGIN:STANDARD
DTSTART:20251026T020000
TZOFFSETFROM:+0200
TZOFFSETTO:+0100
TZNAME:CET
END:STANDARD
END:VTIMEZONE
END:VCALENDAR