BEGIN:VCALENDAR
VERSION:2.0
PRODID:-//wp-events-plugin.com//7.2.3.1//EN
TZID:Europe/Paris
X-WR-TIMEZONE:Europe/Paris
BEGIN:VEVENT
UID:237@egliseverte.org
DTSTART;TZID=Europe/Paris:20230203T203000
DTEND;TZID=Europe/Paris:20230204T223000
DTSTAMP:20231120T160734Z
URL:https://www.egliseverte.org/agenda/echanges-mooc-habiter-la-maison-com
 mune-75-2023-02-03/
SUMMARY:Échanges MOOC "Habiter la maison commune" (75)
DESCRIPTION:Suivre ensemble le cours en ligne du collège des Bernardins\, 
 le premier vendredi du mois (sauf exceptions). Ouvert largement.\n\nhttps:
 //www.saintjeanbosco.fr/wp-content/uploads/2021/09/MOOC-Habiter-la-maison-
 commune.pdf
ATTACH;FMTTYPE=image/jpeg:https://www.egliseverte.org/wp-content/uploads/2
 022/10/Screenshot_20221004-115635_Office.jpg
LOCATION:Paroisse St Jean Bosco\, 77 rue Alexandre Dumas\, Paris\, 75020\, 
 France
GEO:48.855071;2.397916
X-APPLE-STRUCTURED-LOCATION;VALUE=URI;X-ADDRESS=77 rue Alexandre Dumas\, Pa
 ris\, 75020\, France;X-APPLE-RADIUS=100;X-TITLE=Paroisse St Jean Bosco:geo
 :48.855071,2.397916
END:VEVENT
BEGIN:VTIMEZONE
TZID:Europe/Paris
X-LIC-LOCATION:Europe/Paris
BEGIN:STANDARD
DTSTART:20221030T020000
TZOFFSETFROM:+0200
TZOFFSETTO:+0100
TZNAME:CET
END:STANDARD
END:VTIMEZONE
END:VCALENDAR