BEGIN:VCALENDAR
VERSION:2.0
PRODID:-//wp-events-plugin.com//7.2.3.1//EN
TZID:Europe/Paris
X-WR-TIMEZONE:Europe/Paris
BEGIN:VEVENT
UID:486@egliseverte.org
DTSTART;TZID=Europe/Paris:20250528T180000
DTEND;TZID=Europe/Paris:20250601T163000
DTSTAMP:20250513T123102Z
URL:https://www.egliseverte.org/agenda/eco-spiritualite-sancrer-dans-lespe
 rance/
SUMMARY:Eco-spiritualité : s'ancrer dans l'espérance
DESCRIPTION:Nous vivons des temps d’incertitude radicale\, tissés d’es
 poirs et de désespoir\, qui nous questionnent sur le sens de la Vie sur T
 erre et notre place dans la Création.\n\nComment enraciner notre espéran
 ce en Christ et dynamiser nos engagements d’écologie intégrale ?\n\nNo
 us explorerons la dynamique de la Spirale du « Travail qui Relie » de Jo
 anna Macy\, et ancrerons ce processus dans la Parole de Dieu\, afin de fai
 re de nos émotions\, nos peurs\, nos doutes\, des forces pour construire 
 un monde nouveau.\n\nChaque jour nous allierons exercices et rituels colle
 ctifs du Travail qui Relie avec des temps de prière personnelle avec la B
 ible\, selon la manière de faire des Exercices spirituels.\n\nPartages en
  groupe\, accompagnement spirituel personnel possible.\n\nLa messe sera pr
 oposée tous les jours avec le groupe des retraitants ou avec les autres r
 ésidents de la maison.\nLes repas seront pris en partie en silence\, en p
 artie en parlant.\n\nhttps://www.sainthugues.fr/eco-spiritualite-sancrer-d
 ans-lesperance-28-05-2025/
ATTACH;FMTTYPE=image/jpeg:https://www.egliseverte.org/wp-content/uploads/2
 025/05/Eco-spiritualite-sancrer-dans-lesperance.jpg
LOCATION:Centre spirituel Saint-Hugues\, 313 Chem. de Billerey\, Biviers\, 
 38330\, France
GEO:45.23494;5.790398
X-APPLE-STRUCTURED-LOCATION;VALUE=URI;X-ADDRESS=313 Chem. de Billerey\, Biv
 iers\, 38330\, France;X-APPLE-RADIUS=100;X-TITLE=Centre spirituel Saint-Hu
 gues:geo:45.23494,5.790398
END:VEVENT
BEGIN:VTIMEZONE
TZID:Europe/Paris
X-LIC-LOCATION:Europe/Paris
BEGIN:DAYLIGHT
DTSTART:20250330T030000
TZOFFSETFROM:+0100
TZOFFSETTO:+0200
TZNAME:CEST
END:DAYLIGHT
END:VTIMEZONE
END:VCALENDAR