BEGIN:VCALENDAR
VERSION:2.0
PRODID:-//wp-events-plugin.com//7.2.3.1//EN
TZID:Europe/Paris
X-WR-TIMEZONE:Europe/Paris
BEGIN:VEVENT
UID:214@egliseverte.org
DTSTART;TZID=Europe/Paris;VALUE=DATE:20221016
DTEND;TZID=Europe/Paris;VALUE=DATE:20221017
DTSTAMP:20231120T160618Z
URL:https://www.egliseverte.org/agenda/ecologie-et-fraternite-a-maguelone/
SUMMARY:Écologie et Fraternité à Maguelone
DESCRIPTION:Célébration\, pique-nique\, stands et ateliers\, concert\n\nh
 ttp://ev34.fr/agenda/2022/16102022.html
ATTACH;FMTTYPE=image/jpeg:https://www.egliseverte.org/wp-content/uploads/2
 022/09/Affiche_Ecologie_Fraternite_A4_Numerique.jpg
LOCATION:Cathédrale de Maguelone\, Domaine de Maguelone\, Villeneuve-lès-
 Maguelone\, 34750\, France
GEO:43.512491;3.883604
X-APPLE-STRUCTURED-LOCATION;VALUE=URI;X-ADDRESS=Domaine de Maguelone\, Vill
 eneuve-lès-Maguelone\, 34750\, France;X-APPLE-RADIUS=100;X-TITLE=Cathédr
 ale de Maguelone:geo:43.512491,3.883604
END:VEVENT
BEGIN:VTIMEZONE
TZID:Europe/Paris
X-LIC-LOCATION:Europe/Paris
BEGIN:DAYLIGHT
DTSTART:20220327T030000
TZOFFSETFROM:+0100
TZOFFSETTO:+0200
TZNAME:CEST
END:DAYLIGHT
END:VTIMEZONE
END:VCALENDAR