BEGIN:VCALENDAR
VERSION:2.0
PRODID:-//wp-events-plugin.com//7.2.3.1//EN
TZID:Europe/Paris
X-WR-TIMEZONE:Europe/Paris
BEGIN:VEVENT
UID:484@egliseverte.org
DTSTART;TZID=Europe/Paris:20250614T140000
DTEND;TZID=Europe/Paris:20250614T180000
DTSTAMP:20250513T123942Z
URL:https://www.egliseverte.org/agenda/envie-ensemble-vers-demain/
SUMMARY:EnVie ensemble vers demain...
DESCRIPTION:Carrefour citoyen pour réfléchir\, découvrir\, prévoir la V
 ie de demain\n1) Temps de méditation avec Anne Fuchs\, référente pour l
 a mission diocésaine à l'écologie intégrale\n2) Découverte des stands
 : commerce équitable\, compostage\, Eurométropole Strasbourg\, ligue de 
 protection des oiseaux\, UFC Que Choisir....
ATTACH;FMTTYPE=image/jpeg:https://www.egliseverte.org/wp-content/uploads/2
 017/11/bg-featured3.jpg
LOCATION:paroisse protestante du neuhof stockfeld\, 36 route d'Altenheim\, 
 Strasbourg\, france\, 67100\, Alsace\, France
GEO:48.540664;7.767081
X-APPLE-STRUCTURED-LOCATION;VALUE=URI;X-ADDRESS=36 route d'Altenheim\, Stra
 sbourg\, france\, 67100\, Alsace\, France;X-APPLE-RADIUS=100;X-TITLE=paroi
 sse protestante du neuhof stockfeld:geo:48.540664,7.767081
END:VEVENT
BEGIN:VTIMEZONE
TZID:Europe/Paris
X-LIC-LOCATION:Europe/Paris
BEGIN:DAYLIGHT
DTSTART:20250330T030000
TZOFFSETFROM:+0100
TZOFFSETTO:+0200
TZNAME:CEST
END:DAYLIGHT
END:VTIMEZONE
END:VCALENDAR