BEGIN:VCALENDAR
VERSION:2.0
PRODID:-//wp-events-plugin.com//7.2.3.1//EN
TZID:Europe/Paris
X-WR-TIMEZONE:Europe/Paris
BEGIN:VEVENT
UID:562@egliseverte.org
DTSTART;TZID=Europe/Paris;VALUE=DATE:20250926
DTEND;TZID=Europe/Paris;VALUE=DATE:20250929
DTSTAMP:20250915T091542Z
URL:https://www.egliseverte.org/agenda/evangile-et-travail-qui-relie/
SUMMARY:EVANGILE ET TRAVAIL QUI RELIE
DESCRIPTION:Tisser des liens\, dans notre existence\, entre foi chrétienne
  et approche spirituelle de l’écologie\, afin de mieux nous engager pou
 r le monde\, dans la durée\, avec toute notre personne.\nPrésentation\n\
 nPour qui ?\n\nCette session s’adresse aux chrétiens sensibles à la di
 mension spirituelle du combat écologique et souhaitant découvrir plusieu
 rs approches complémentaires pour l’approfondir.\n\nEt pour tous ceux q
 ui souhaitent renforcer leur lien à la Création\, et expérimenter une m
 éthode d’écospiritualité qui a fait ses preuves\, le Travail qui Reli
 e\, en lien avec leur foi chrétienne.\n\nPour quoi ?\n\nTisser des liens\
 , dans notre existence\, entre foi chrétienne et approche spirituelle et 
 existentielle de l’écologie\, afin de mieux nous engager dans la durée
  avec toute notre personne (corps\, tripes\, cœur\, tête).\n\nEt que not
 re engagement pour le vivant et notre foi chrétienne se nourrissent et se
  soutiennent mutuellement.\n\nComment ?\n\nLe Travail qui Relie est une m
 éthode élaborée par Joanna Macy depuis les années 80. Sa dynamique en 
 spirale peut être vécue par les chrétiens comme une voie écospirituell
 e ancrée dans l’Évangile.\n\nLa spirale du Travail qui Relie se dérou
 le en 4 temps (s’ancrer dans la gratitude \; honorer sa peine pour le mo
 nde \; changer de regard \; aller de l’avant). Chaque étape comporte di
 vers moments qui articulent temps personnels et exercices collectifs. Notr
 e session propose de vivre cette dynamique en la laissant résonner avec l
 ’Évangile\, afin de « faire du lien » entre l’expérience vécue da
 ns le Travail qui Relie et ces textes fondateurs de la foi chrétienne. Ce
  croisement pourra être l’occasion pour certains de découvrir comment 
 intérioriser les textes bibliques et les recevoir « avec le cœur ».\n\
 nConcrètement\, la retraite comportera des temps de :\n\nMéditation des 
 textes bibliques\nApports sur l’éco-spiritualité\nExercices du Travail
  qui Relie\, mobilisant le corps et les sens\nPrières et célébrations\n
 Partage en groupe\n\nPar qui ?\n\nLes référents du service de l’écolo
 gie intégrale de Nantes :\n\nNous entendons l’appel du pape François d
 ans Laudato Si à renouveler notre spiritualité chrétienne. Le modèle d
 e la conversion écologique chrétienne est la communion trinitaire\, qui 
 donne l’espérance : nos relations aux autres\, à la Création toute en
 tière et à nous-même sont appelés à un renouveau.\n\nNous entendons a
 ussi le besoin de nombreux chrétiens d’ancrer leur chemin de conversion
  écologique dans leur foi chrétienne\, dans l’espérance\, et dans la 
 rencontre.\n\nNous sommes donc très heureux d’accueillir dans notre dio
 cèse Christine Kristof\, Co-fondatrice du mouvement Chrétiens Unis pour 
 la Terre et de l’association AnimaTerra\, facilitatrice du Travail Qui R
 elie\, et Xavier de Bénazé\, prêtre jésuite\, coordinateur de l’éco
 centre spirituel du Châtelard et responsable du programme au centre spiri
 tuel. Ils co-animeront la retraite.\n\nTarifs et inscriptions en ligne :\n
 \nhttps://www.helloasso.com/associations/ad-nantes/evenements/travail-qui-
 relie-et-evangile
ATTACH;FMTTYPE=image/jpeg:https://www.egliseverte.org/wp-content/uploads/2
 025/09/EI_20250926-28_evangile-et-travail-qui-relie_affiche.jpg
LOCATION:Maison Saint-Donatien\, La Haye\, Derval\, 44590\, France
GEO:47.663086;-1.664771
X-APPLE-STRUCTURED-LOCATION;VALUE=URI;X-ADDRESS=La Haye\, Derval\, 44590\, 
 France;X-APPLE-RADIUS=100;X-TITLE=Maison Saint-Donatien:geo:47.663086,-1.6
 64771
END:VEVENT
BEGIN:VTIMEZONE
TZID:Europe/Paris
X-LIC-LOCATION:Europe/Paris
BEGIN:DAYLIGHT
DTSTART:20250330T030000
TZOFFSETFROM:+0100
TZOFFSETTO:+0200
TZNAME:CEST
END:DAYLIGHT
END:VTIMEZONE
END:VCALENDAR