BEGIN:VCALENDAR
VERSION:2.0
PRODID:-//wp-events-plugin.com//7.2.3.1//EN
TZID:Europe/Paris
X-WR-TIMEZONE:Europe/Paris
BEGIN:VEVENT
UID:278@egliseverte.org
DTSTART;TZID=Europe/Paris:20230509T090000
DTEND;TZID=Europe/Paris:20230526T220000
DTSTAMP:20231120T161107Z
URL:https://www.egliseverte.org/agenda/expo-eacop-lafrique-et-europe-face-
 a-eacop-75/
SUMMARY:Expo EACOP "L'Afrique et  Europe face à EACOP" (75)
DESCRIPTION:Exposition photo documentant la lutte contre le projet pétroli
 er EACOP en Afrique et en France.\n\nSalle Janot - Horaires d'ouverture : 
 ceux du Centre Sèvres.
ATTACH;FMTTYPE=image/jpeg:https://www.egliseverte.org/wp-content/uploads/2
 023/05/92f0293a658a0228ed9170b1e6cf615570e582f8cbf4c3e006a11ec542b070a5.jp
 g
LOCATION:Centre Sèvres\, 35 Bis Rue de Sèvres\, Paris\, France\, 75006\, 
 Ile de France\, France
GEO:48.85071;2.325848
X-APPLE-STRUCTURED-LOCATION;VALUE=URI;X-ADDRESS=35 Bis Rue de Sèvres\, Par
 is\, France\, 75006\, Ile de France\, France;X-APPLE-RADIUS=100;X-TITLE=Ce
 ntre Sèvres:geo:48.85071,2.325848
END:VEVENT
BEGIN:VTIMEZONE
TZID:Europe/Paris
X-LIC-LOCATION:Europe/Paris
BEGIN:DAYLIGHT
DTSTART:20230326T030000
TZOFFSETFROM:+0100
TZOFFSETTO:+0200
TZNAME:CEST
END:DAYLIGHT
END:VTIMEZONE
END:VCALENDAR