BEGIN:VCALENDAR
VERSION:2.0
PRODID:-//wp-events-plugin.com//7.2.3.1//EN
TZID:Europe/Paris
X-WR-TIMEZONE:Europe/Paris
BEGIN:VEVENT
UID:541@egliseverte.org
DTSTART;TZID=Europe/Paris;VALUE=DATE:20250920
DTEND;TZID=Europe/Paris;VALUE=DATE:20250921
DTSTAMP:20250903T091041Z
URL:https://www.egliseverte.org/agenda/exposition-eglise-verte/
SUMMARY:Exposition Eglise verte
DESCRIPTION:L'exposition préparée par Église verte sera exposée de 10h 
 à 12h et de 14h à 17h dans la salle paroissiale à l'occasion des Journ
 ées du Patrimoine.
ATTACH;FMTTYPE=image/jpeg:https://www.egliseverte.org/wp-content/uploads/2
 025/09/expo-ev.png
LOCATION:Paroisse protestante de Bourg-la-Reine (92)\, 11 rue Ravon\, Bourg
 -la-Reine\, Hauts-de-Seine\, 92340\, Ile-de-France\, France
GEO:48.779621;2.317657
X-APPLE-STRUCTURED-LOCATION;VALUE=URI;X-ADDRESS=11 rue Ravon\, Bourg-la-Rei
 ne\, Hauts-de-Seine\, 92340\, Ile-de-France\, France;X-APPLE-RADIUS=100;X-
 TITLE=Paroisse protestante de Bourg-la-Reine (92):geo:48.779621,2.317657
END:VEVENT
BEGIN:VTIMEZONE
TZID:Europe/Paris
X-LIC-LOCATION:Europe/Paris
BEGIN:DAYLIGHT
DTSTART:20250330T030000
TZOFFSETFROM:+0100
TZOFFSETTO:+0200
TZNAME:CEST
END:DAYLIGHT
END:VTIMEZONE
END:VCALENDAR