BEGIN:VCALENDAR
VERSION:2.0
PRODID:-//wp-events-plugin.com//7.2.3.1//EN
TZID:Europe/Paris
X-WR-TIMEZONE:Europe/Paris
BEGIN:VEVENT
UID:494@egliseverte.org
DTSTART;TZID=Europe/Paris;VALUE=DATE:20250602
DTEND;TZID=Europe/Paris;VALUE=DATE:20250621
DTSTAMP:20250604T110312Z
URL:https://www.egliseverte.org/agenda/exposition-laudato-si-saint-medard-
 paris-5e/
SUMMARY:EXPOSITION LAUDATO SI SAINT MEDARD PARIS 5E
DESCRIPTION:Le groupe Église verte de st Médard propose une exposition à
  l'occasion des 10 ans de la parution de l'encyclique Laudato Si'\ntous le
 s jours sauf lundi aux heures d'ouverture de l'église.\n20 panneaux avec 
 de magnifiques photos de Yann Arthus Bertrand\, photographe et écologiste
  illustrent et commentent les extraits de l'encyclique du pape François. 
 Ils sont exposés dans l'église Saint Médard à Paris 5e jusqu'au 20 jui
 n.\n\nL'exposition sera ensuite visible à St Jacques-du-Haut-Pas
ATTACH;FMTTYPE=image/jpeg:https://www.egliseverte.org/wp-content/uploads/2
 025/06/LAUDATO-SI-affichepng.png
LOCATION:Eglise st Médard Paris 5e\, EGLISE SAINT MEDARD place Mouffetard 
 Paris 5e\, Paris\, 75005\, ILE DE FRANCE\, France
X-APPLE-STRUCTURED-LOCATION;VALUE=URI;X-ADDRESS=EGLISE SAINT MEDARD place M
 ouffetard Paris 5e\, Paris\, 75005\, ILE DE FRANCE\, France;X-APPLE-RADIUS
 =100;X-TITLE=Eglise st Médard Paris 5e:geo:0,0
END:VEVENT
BEGIN:VTIMEZONE
TZID:Europe/Paris
X-LIC-LOCATION:Europe/Paris
BEGIN:DAYLIGHT
DTSTART:20250330T030000
TZOFFSETFROM:+0100
TZOFFSETTO:+0200
TZNAME:CEST
END:DAYLIGHT
END:VTIMEZONE
END:VCALENDAR