BEGIN:VCALENDAR
VERSION:2.0
PRODID:-//wp-events-plugin.com//7.2.3.1//EN
TZID:Europe/Paris
X-WR-TIMEZONE:Europe/Paris
BEGIN:VEVENT
UID:535@egliseverte.org
DTSTART;TZID=Europe/Paris:20250901T090000
DTEND;TZID=Europe/Paris:20251005T170000
DTSTAMP:20250924T123443Z
URL:https://www.egliseverte.org/agenda/exposition-yann-artus-bertrand/
SUMMARY:Exposition Yann Arthus Bertrand
DESCRIPTION:Une exposition de 20 panneaux met en dialogue la lettre encycli
 que du pape François "Laudato Si" sur la sauvegarde de la maison commune 
 et les magnifiques photographies de Yann Arthus-Bertrand à l'église de S
 t Macaire en Mauges. L'église est ouverte de 9h à 17h tous les jours. Un
 e belle idée de sortie en famille ou entre amis.
ATTACH;FMTTYPE=image/jpeg:https://www.egliseverte.org/wp-content/uploads/2
 025/09/Expo-Yann-Artus-Bertand-Sep-2025.jpg
LOCATION:Église de St Macaire en Mauges (49)\, Pl. Henri Doizy\, Sèvremoi
 ne\, Pays de la Loire\, 49450\, Maine-et-Loire\, France
GEO:47.123987;-0.99485
X-APPLE-STRUCTURED-LOCATION;VALUE=URI;X-ADDRESS=Pl. Henri Doizy\, Sèvremoi
 ne\, Pays de la Loire\, 49450\, Maine-et-Loire\, France;X-APPLE-RADIUS=100
 ;X-TITLE=Église de St Macaire en Mauges (49):geo:47.123987,-0.99485
END:VEVENT
BEGIN:VTIMEZONE
TZID:Europe/Paris
X-LIC-LOCATION:Europe/Paris
BEGIN:DAYLIGHT
DTSTART:20250330T030000
TZOFFSETFROM:+0100
TZOFFSETTO:+0200
TZNAME:CEST
END:DAYLIGHT
END:VTIMEZONE
END:VCALENDAR