BEGIN:VCALENDAR
VERSION:2.0
PRODID:-//wp-events-plugin.com//7.2.3.1//EN
TZID:Europe/Paris
X-WR-TIMEZONE:Europe/Paris
BEGIN:VEVENT
UID:630@egliseverte.org
DTSTART;TZID=Europe/Paris;VALUE=DATE:20260118
DTEND;TZID=Europe/Paris;VALUE=DATE:20260125
DTSTAMP:20260115T164647Z
URL:https://www.egliseverte.org/agenda/expostion-par-amour-terre-semaine-p
 riere-unite-chretiens/
SUMMARY:Exposition patchwork PAR AMOUR DE LA TERRE pendant la semaine de pr
 ière pour l'unité des chrétiens
DESCRIPTION:
ATTACH;FMTTYPE=image/jpeg:https://www.egliseverte.org/wp-content/uploads/2
 026/01/Par-amour-de-la-Terre.png
LOCATION:SAINTE LUCIE\, 79 cours Napoléon \, AJACCIO\, 20000 \, France
GEO:41.927522;8.738877
X-APPLE-STRUCTURED-LOCATION;VALUE=URI;X-ADDRESS=79 cours Napoléon \, AJACC
 IO\, 20000 \, France;X-APPLE-RADIUS=100;X-TITLE=SAINTE LUCIE:geo:41.927522
 ,8.738877
END:VEVENT
BEGIN:VTIMEZONE
TZID:Europe/Paris
X-LIC-LOCATION:Europe/Paris
BEGIN:STANDARD
DTSTART:20251026T020000
TZOFFSETFROM:+0200
TZOFFSETTO:+0100
TZNAME:CET
END:STANDARD
END:VTIMEZONE
END:VCALENDAR