BEGIN:VCALENDAR
VERSION:2.0
PRODID:-//wp-events-plugin.com//7.2.3.1//EN
TZID:Europe/Paris
X-WR-TIMEZONE:Europe/Paris
BEGIN:VEVENT
UID:503@egliseverte.org
DTSTART;TZID=Europe/Paris;VALUE=DATE:20250828
DTEND;TZID=Europe/Paris;VALUE=DATE:20250901
DTSTAMP:20250630T144325Z
URL:https://www.egliseverte.org/agenda/festival-brother-sun-festival-franc
 iscain-autour-de-lecologie/
SUMMARY:Festival Brother Sun - Festival franciscain autour de l'écologie
DESCRIPTION:Tu veux nourrir ton espérance dans un monde en plein boulevers
 ement ?\nTu es persuadé(e) que l’on peut encore agir face aux défis é
 cologiques ?\nEnvie de découvrir la spiritualité franciscaine avec les f
 rères et d’autres jeunes\nle temps d’un grand week-end ?\n\nViens fai
 re l’expérience de la vie fraternelle\, offerte par l’Évangile\, pou
 r redécouvrir ce qui nous uni au-delà de nos différences et faire Égli
 se ensemble.\n\nQue tu connaisses François d’Assise ou pas\, on t’acc
 ueille pour 4 jours de joie\, de rencontres et de contemplation de la Cré
 ation.\n\nAvant la rentrée\, viens te ressourcer à Brother Sun du 28 au 
 31 août 2025 et vivre un vrai shoot de fraternité !\n\nLes frères et l
 ’équipe d’orga’ 😎\nInscris-toi au Festival Brother Sun !\n\nPlus
  d'infos
ATTACH;FMTTYPE=image/jpeg:https://www.egliseverte.org/wp-content/uploads/2
 025/06/1.png
LOCATION:Au Sanctuaire Notre-Dame de Reinacker\, 21 Rue du Couvent\,  \, Re
 utenbourg\, 67440\, France
X-APPLE-STRUCTURED-LOCATION;VALUE=URI;X-ADDRESS=21 Rue du Couvent\,  \, Reu
 tenbourg\, 67440\, France;X-APPLE-RADIUS=100;X-TITLE=Au Sanctuaire Notre-D
 ame de Reinacker:geo:0,0
END:VEVENT
BEGIN:VTIMEZONE
TZID:Europe/Paris
X-LIC-LOCATION:Europe/Paris
BEGIN:DAYLIGHT
DTSTART:20250330T030000
TZOFFSETFROM:+0100
TZOFFSETTO:+0200
TZNAME:CEST
END:DAYLIGHT
END:VTIMEZONE
END:VCALENDAR