BEGIN:VCALENDAR
VERSION:2.0
PRODID:-//wp-events-plugin.com//7.2.3.1//EN
TZID:Europe/Paris
X-WR-TIMEZONE:Europe/Paris
BEGIN:VEVENT
UID:329@egliseverte.org
DTSTART;TZID=Europe/Paris:20240525T093000
DTEND;TZID=Europe/Paris:20240525T220000
DTSTAMP:20240516T160543Z
URL:https://www.egliseverte.org/agenda/festival-commune-planete-37/
SUMMARY:Festival Commune Planète (37)
DESCRIPTION:Poussez la porte du Carmel et laissez-vous porter le temps d'un
 e journée...\n- 10h Table ronde du matin : "se laisser enseigner par les 
 plus pauvres\, sur le chemin de la conversion écologique"\n- 12h déjeune
 r/Restauration sur place\n- 13h/14h30 Temps spirituel\n- 11h45-17h45 Ateli
 ers "Savoir-faire &amp\; Savoir-être"\n-17h50 Table ronde : "Un nouveau m
 onde naissant"\n19h30 Soirée conviviale\nTemps d'expression par la Frater
 nité Saint-Martin suivi d'un repas partagé\n\nhttps://diocesedetours.cat
 holique.fr/actualites/detail-de-lactualite/commune-planete/\n\n\n\n&nbsp\;
ATTACH;FMTTYPE=image/jpeg:https://www.egliseverte.org/wp-content/uploads/2
 024/05/CommunePlanete2024_A4_web2538reduction-1.jpg
LOCATION:https://www.google.com/maps/place/13+Rue+des+Ursulines,+37000+Tour
 s/@47.3940283,0.6910312,16z/data=!3m1!4b1!4m6!3m5!1s0x47fcd44cbbc6e967:0x2
 b95f3f320b3009f!8m2!3d47.3940284!4d0.6959021!16s%2Fg%2F11c5nmp4mh?entry=tt
 u
END:VEVENT
BEGIN:VTIMEZONE
TZID:Europe/Paris
X-LIC-LOCATION:Europe/Paris
BEGIN:DAYLIGHT
DTSTART:20240331T030000
TZOFFSETFROM:+0100
TZOFFSETTO:+0200
TZNAME:CEST
END:DAYLIGHT
END:VTIMEZONE
END:VCALENDAR