BEGIN:VCALENDAR
VERSION:2.0
PRODID:-//wp-events-plugin.com//7.2.3.1//EN
TZID:Europe/Paris
X-WR-TIMEZONE:Europe/Paris
BEGIN:VEVENT
UID:386@egliseverte.org
DTSTART;TZID=Europe/Paris;VALUE=DATE:20240915
DTEND;TZID=Europe/Paris;VALUE=DATE:20240916
DTSTAMP:20240909T104203Z
URL:https://www.egliseverte.org/agenda/fete-de-la-creation-40/
SUMMARY:Fête de la Création (40)
DESCRIPTION:Le dimanche 15 septembre\, l'équipe Église verte de la parois
 se saint Joseph du Born organise une journée pour fêter la création. Ap
 rès une messe en plein air le matin et un pique nique\, nous pourrons nou
 s vivre des temps en ateliers (fabrication de nichoirs\, promenade des 5 s
 ens\, chant\, danse ..). La journée se terminera par un temps de louange 
 et la bénédiction des nichoirs qui seront installés sur le terrain paro
 issial.
ATTACH;FMTTYPE=image/jpeg:https://www.egliseverte.org/wp-content/uploads/2
 024/09/nichoir-et-Rougequeue-a-front-blanc.jpg
LOCATION:maison paroissiale de Mimizan\, 35 rue Jean Daret \, Mimizan\, lan
 des\, 40200\, Aquitaine\, France
X-APPLE-STRUCTURED-LOCATION;VALUE=URI;X-ADDRESS=35 rue Jean Daret \, Mimiza
 n\, landes\, 40200\, Aquitaine\, France;X-APPLE-RADIUS=100;X-TITLE=maison 
 paroissiale de Mimizan:geo:0,0
END:VEVENT
BEGIN:VTIMEZONE
TZID:Europe/Paris
X-LIC-LOCATION:Europe/Paris
BEGIN:DAYLIGHT
DTSTART:20240331T030000
TZOFFSETFROM:+0100
TZOFFSETTO:+0200
TZNAME:CEST
END:DAYLIGHT
END:VTIMEZONE
END:VCALENDAR