BEGIN:VCALENDAR
VERSION:2.0
PRODID:-//wp-events-plugin.com//7.2.3.1//EN
TZID:Europe/Paris
X-WR-TIMEZONE:Europe/Paris
BEGIN:VEVENT
UID:580@egliseverte.org
DTSTART;TZID=Europe/Paris:20251019T120000
DTEND;TZID=Europe/Paris:20251019T173000
DTSTAMP:20250923T133449Z
URL:https://www.egliseverte.org/agenda/fete-de-la-creation-boucle-nord-du-
 92/
SUMMARY:Fête de la création - Boucle nord du 92
DESCRIPTION:\n\nLes paroisses de Levallois\, Asnières\, Bois Colombes\, Co
 urbevoie\, Neuilly et le collège-lycée Sainte-Marie de Neuilly vous invi
 tent !\n\nInscription souhaitée pour faciliter l'organisation : https://f
 ramaforms.org/journee-de-fete-vers-lecologie-integrale-2025-boucle-nord-de
 s-hauts-de-seine-1756558301\nLe matin\, messes et cultes en paroisses\, l'
 après-midi au collège-lycée Sainte Marie de Neuilly\n 12h-14h Pique-niq
 ue “zéro déchet”\n14h-16h Ateliers sur l’écologie intégrale : c
 réatifs\, ludiques\, méditatifs\, documentaire-débat\, témoignages\, s
 tand Église verte\n\n16h-16h30 Clôture des ateliers et temps de pause\n1
 6h30-17h15 Temps spirituel œcuménique\n\n
ATTACH;FMTTYPE=image/jpeg:https://www.egliseverte.org/wp-content/uploads/2
 025/09/TPC2025-CUSTOMISABLE-V.-CATHOLIQUE.pdf.png
LOCATION:Collège-lycée Sainte Marie de Neuilly\, 24 Bd Victor Hugo \, Neu
 illy sur Seine\, Hauts de Seine\, 92200\, Ile de France\, France
GEO:48.885029;2.281308
X-APPLE-STRUCTURED-LOCATION;VALUE=URI;X-ADDRESS=24 Bd Victor Hugo \, Neuill
 y sur Seine\, Hauts de Seine\, 92200\, Ile de France\, France;X-APPLE-RADI
 US=100;X-TITLE=Collège-lycée Sainte Marie de Neuilly:geo:48.885029,2.281
 308
END:VEVENT
BEGIN:VTIMEZONE
TZID:Europe/Paris
X-LIC-LOCATION:Europe/Paris
BEGIN:DAYLIGHT
DTSTART:20250330T030000
TZOFFSETFROM:+0100
TZOFFSETTO:+0200
TZNAME:CEST
END:DAYLIGHT
END:VTIMEZONE
END:VCALENDAR