BEGIN:VCALENDAR
VERSION:2.0
PRODID:-//wp-events-plugin.com//7.2.3.1//EN
TZID:Europe/Paris
X-WR-TIMEZONE:Europe/Paris
BEGIN:VEVENT
UID:587@egliseverte.org
DTSTART;TZID=Europe/Paris:20251004T150000
DTEND;TZID=Europe/Paris:20251004T190000
DTSTAMP:20251001T090939Z
URL:https://www.egliseverte.org/agenda/fete-de-la-creation/
SUMMARY:Fête de la Création
DESCRIPTION:Au nom de l'association Église verte\,\nde la paroisse protest
 ante de Graffenstaden\net en présence de Madame Isabelle Gerber\, présid
 ente de l'Union des Églises protestantes d'Alsace et de Lorraine (UEPAL) 
 et d'Anne Fuchs\, référente diocésaine à l'écologie intégrale du dio
 cèse de Strasbourg\n\nNous sommes très heureux de vous convier le samedi
  4 octobre à fêter la Création avec nous.
ATTACH;FMTTYPE=image/jpeg:https://www.egliseverte.org/wp-content/uploads/2
 025/09/invit-graff-cedre.jpg
LOCATION:Paroisse protestante d'Illkirch Graffenstaden\, 1 Sous les platane
 s\, Illkirch Graffenstaden\, 67\, 67400\, Alsace\, France
GEO:48.519406;7.710363
X-APPLE-STRUCTURED-LOCATION;VALUE=URI;X-ADDRESS=1 Sous les platanes\, Illki
 rch Graffenstaden\, 67\, 67400\, Alsace\, France;X-APPLE-RADIUS=100;X-TITL
 E=Paroisse protestante d'Illkirch Graffenstaden:geo:48.519406,7.710363
END:VEVENT
BEGIN:VTIMEZONE
TZID:Europe/Paris
X-LIC-LOCATION:Europe/Paris
BEGIN:DAYLIGHT
DTSTART:20250330T030000
TZOFFSETFROM:+0100
TZOFFSETTO:+0200
TZNAME:CEST
END:DAYLIGHT
END:VTIMEZONE
END:VCALENDAR