BEGIN:VCALENDAR
VERSION:2.0
PRODID:-//wp-events-plugin.com//7.2.3.1//EN
TZID:Europe/Paris
X-WR-TIMEZONE:Europe/Paris
BEGIN:VEVENT
UID:496@egliseverte.org
DTSTART;TZID=Europe/Paris;VALUE=DATE:20250614
DTEND;TZID=Europe/Paris;VALUE=DATE:20250616
DTSTAMP:20250605T093200Z
URL:https://www.egliseverte.org/agenda/fete-dete-au-foyer-protestant-de-gr
 affenstaden-67/
SUMMARY:Fête d'été au Foyer Protestant de Graffenstaden (67)
DESCRIPTION:&nbsp\;\n\n\n\n\n\n\n\nVous êtes près de Strasbourg ? Rendez-
 vous mi juin à l'Église Sous les Platanes\, labellisée Église verte de
 puis 2019\, qui vous invite à sa fête d'été où la Création est à l'
 honneur !\n\n\n\n\n\n\n\n\nProgramme :\n\n\nSamedi 14 juin\n20:15 | Confé
 rence Terre Fragile avec Patrick Forger au Foyer Protestant de Graffenstad
 en\n\nDimanche 15 juin\n10:30 | Culte en plein-air12:00 | Barbecue champê
 tre (sur inscriptions uniquement)15:00 | Jeu du colibri créé par Patrick
  Forget\n\nToute la journée :\n\n 	Expo photo extérieure dans les jardin
 s du Foyer\,\n 	stand de l’association A Rocha\,\n 	expo Église Verte 
 «Vivre autrement »\n\n\n\nPour plus d'informations : \nhttps://www.faceb
 ook.com/events/985524090231366/\nTélécharger le flyer\n\n
ATTACH;FMTTYPE=image/jpeg:https://www.egliseverte.org/wp-content/uploads/2
 025/06/Flyer-Fete-Ete-JPEG.jpg
LOCATION:Foyer Protestant de Graffenstaden\, 211 route de Lyon\, Illkirch-G
 raffenstaden\, 67400 \, France
X-APPLE-STRUCTURED-LOCATION;VALUE=URI;X-ADDRESS=211 route de Lyon\, Illkirc
 h-Graffenstaden\, 67400 \, France;X-APPLE-RADIUS=100;X-TITLE=Foyer Protest
 ant de Graffenstaden:geo:0,0
END:VEVENT
BEGIN:VTIMEZONE
TZID:Europe/Paris
X-LIC-LOCATION:Europe/Paris
BEGIN:DAYLIGHT
DTSTART:20250330T030000
TZOFFSETFROM:+0100
TZOFFSETTO:+0200
TZNAME:CEST
END:DAYLIGHT
END:VTIMEZONE
END:VCALENDAR