BEGIN:VCALENDAR
VERSION:2.0
PRODID:-//wp-events-plugin.com//7.2.3.1//EN
TZID:Europe/Paris
X-WR-TIMEZONE:Europe/Paris
BEGIN:VEVENT
UID:309@egliseverte.org
DTSTART;TZID=Europe/Paris;VALUE=DATE:20240324
DTEND;TZID=Europe/Paris;VALUE=DATE:20240325
DTSTAMP:20240304T113633Z
URL:https://www.egliseverte.org/agenda/fete-du-printemps-75/
SUMMARY:Fête du printemps (75)
DESCRIPTION:Le groupe Laudato Si' de la paroisse St Jean Bosco vous invite 
 à la fête du printemps :\n10h à 10h30 : venez découvrir notre compost 
 de quartier\n10h30 : messe des Rameaux\n12h-14h : repas partagé\n14h à 1
 7h : ateliers « portes ouvertes au jardin »\nNettoyage du jardin\, prép
 aration des bacs pour le printemps\, référencement des espèces végéta
 les\, réalisation de semis ….
ATTACH;FMTTYPE=image/jpeg:https://www.egliseverte.org/wp-content/uploads/2
 024/03/Logo-SJB-Laudato-Si-1.jpg
LOCATION:Paroisse St Jean Bosco\, 75 rue Alexandre Dumas\, Paris\, 75020\, 
 France
X-APPLE-STRUCTURED-LOCATION;VALUE=URI;X-ADDRESS=75 rue Alexandre Dumas\, Pa
 ris\, 75020\, France;X-APPLE-RADIUS=100;X-TITLE=Paroisse St Jean Bosco:geo
 :0,0
END:VEVENT
BEGIN:VTIMEZONE
TZID:Europe/Paris
X-LIC-LOCATION:Europe/Paris
BEGIN:STANDARD
DTSTART:20231029T020000
TZOFFSETFROM:+0200
TZOFFSETTO:+0100
TZNAME:CET
END:STANDARD
END:VTIMEZONE
END:VCALENDAR