BEGIN:VCALENDAR
VERSION:2.0
PRODID:-//wp-events-plugin.com//7.2.3.1//EN
TZID:Europe/Paris
X-WR-TIMEZONE:Europe/Paris
BEGIN:VEVENT
UID:363@egliseverte.org
DTSTART;TZID=Europe/Paris:20240922T090000
DTEND;TZID=Europe/Paris:20240922T160000
DTSTAMP:20240904T094140Z
URL:https://www.egliseverte.org/agenda/fete-du-temps-pour-la-creation/
SUMMARY:Fête du Temps pour la Création (90)
DESCRIPTION:Marche méditative autour du village de Lachapelle sous Chaux\,
  organisée par la Paroisse Saint-Jean l'Evangéliste\, labellisée Églis
 e verte\, et la paroisse de la Sainte-Famille.\n\nMarche pour célébrer l
 e temps pour la création et l'année de la prière. Une messe sera célé
 brée à 11h dans la nature\, suivie d'un apéritif et d'un repas tiré du
  sac. Ce sera aussi la messe de rentrée pour les 2 paroisses.
ATTACH;FMTTYPE=image/jpeg:https://www.egliseverte.org/wp-content/uploads/2
 024/06/TpC-2024_Publication-carre_v2_catholiques.png
LOCATION:Lachapelle sous Chaux\, 90300\, Lachapelle sous Chaux\, 90\, 90300
 \, Bourgogne Franche-Comté\, France
X-APPLE-STRUCTURED-LOCATION;VALUE=URI;X-ADDRESS=90300\, Lachapelle sous Cha
 ux\, 90\, 90300\, Bourgogne Franche-Comté\, France;X-APPLE-RADIUS=100;X-T
 ITLE=Lachapelle sous Chaux:geo:0,0
END:VEVENT
BEGIN:VTIMEZONE
TZID:Europe/Paris
X-LIC-LOCATION:Europe/Paris
BEGIN:DAYLIGHT
DTSTART:20240331T030000
TZOFFSETFROM:+0100
TZOFFSETTO:+0200
TZNAME:CEST
END:DAYLIGHT
END:VTIMEZONE
END:VCALENDAR