BEGIN:VCALENDAR
VERSION:2.0
PRODID:-//wp-events-plugin.com//7.2.3.1//EN
TZID:Europe/Paris
X-WR-TIMEZONE:Europe/Paris
BEGIN:VEVENT
UID:473@egliseverte.org
DTSTART;TZID=Europe/Paris;VALUE=DATE:20250428
DTEND;TZID=Europe/Paris;VALUE=DATE:20250515
DTSTAMP:20250520T104545Z
URL:https://www.egliseverte.org/agenda/formation-danimateurs-et-danimatric
 es-laudato-si/
SUMMARY:Formation d'animateurs et d'animatrices Laudato Si'
DESCRIPTION:La formation d'animateurs Laudato Si' est une formation en lign
 e gratuite\, ouverte à tous. Elle réunit des personnes de tous les pays 
 francophone et est co-organisée par le Mouvement Laudato Si' en France et
  en Afrique.\n\nElle a pour but de donner à chacun(e) des connaissances e
 t des outils pour agir là où il est : dans sa paroisse\, sa communauté\
 , son association… avec des ressources spirituelles et une vraie ouvertu
 re internationale. Une proposition très complémentaire de ce que fait É
 glise Verte et qui peut aider à lancer ou prolonger sa démarche.\n\nLa f
 ormation débute le mercredi 30 avril ! Les inscriptions sont ouvertes jus
 qu’au 14 mai pour accueillir les éventuels retardataires.\n\nAu program
 me\, 4 webinaires (1h30) autour de VOIR\, JUGER\, AGIR et plein de proposi
 tions et d’outils pour passer à l’action là où on est !\n\nLes bonn
 es raisons de suivre la formation :\n* écouter des intervenants passionna
 nts et variés (scientifique auteur du GIEC\, théologienne\, jésuite\, m
 ilitant)\,\n* se laisser transformer par le message de Laudato Si à l’o
 ccasion des 10 ans de ce texte qui a éclairé chrétiens et non chrétien
 s\,\n* élargir son regard en rencontrant des personnes de tous les pays f
 rancophones\,\n* découvrir plein d’outils simples pour agir là où on 
 est\, en fonction de son contexte\,\n* faire sa première action\, petite 
 ou grande\, en étant accompagné\,\n* poursuivre le chemin après la form
 ation en rejoignant une communauté extraordinaire qui s’entraide\, part
 age et vit sa foi ensemble en fraternité et simplicité\, pour prendre so
 in de notre maison commune et de ceux qui y vivent ! 💚\n\nTout le progr
 amme et comment s’inscrire sur : https://ecole-laudato-si.thinkific.com/
 courses/formation-2025-ALS
ATTACH;FMTTYPE=image/jpeg:https://www.egliseverte.org/wp-content/uploads/2
 025/04/Image-avec-citation.jpg
LOCATION:https://ecole-laudato-si.thinkific.com/courses/formation-2025-ALS
END:VEVENT
BEGIN:VTIMEZONE
TZID:Europe/Paris
X-LIC-LOCATION:Europe/Paris
BEGIN:DAYLIGHT
DTSTART:20250330T030000
TZOFFSETFROM:+0100
TZOFFSETTO:+0200
TZNAME:CEST
END:DAYLIGHT
END:VTIMEZONE
END:VCALENDAR