BEGIN:VCALENDAR
VERSION:2.0
PRODID:-//wp-events-plugin.com//7.2.3.1//EN
TZID:Europe/Paris
X-WR-TIMEZONE:Europe/Paris
BEGIN:VEVENT
UID:438@egliseverte.org
DTSTART;TZID=Europe/Paris:20250206T120000
DTEND;TZID=Europe/Paris:20250206T140000
DTSTAMP:20250103T132631Z
URL:https://www.egliseverte.org/agenda/formation-initiale-ambassadeurs-egl
 ise-verte-journee-en-ligne-fev25/
SUMMARY:Formation initiale Ambassadeurs Église verte (journée - en ligne)
DESCRIPTION:Vous avez envie de découvrir la mission d’ambassadeur/ambass
 adrice Église verte et pourquoi pas\, de vous engager à l’issue de la 
 formation ? Venez assister à la formation initiale : 2h en ligne pour (re
 )découvrir le fonctionnement du label\, découvrir le rôle d’ambassade
 ur et quelques notions d’œcuménisme\, jeudi 6 février de 12h à 14h. 
 Vous pourrez poser toutes vos questions\, un quiz ouvrira la séance et no
 us terminerons par une méditation.\n\nLa lettre d’engagement se trouve 
 ici : https://www.egliseverte.org/wp-content/uploads/2024/03/Lettre-engage
 ment-ambassadeurs-Mars-2024.pdf\n\nPour s’inscrire\, c’est par là : h
 ttps://us02web.zoom.us/meeting/register/y8hBUTCsQGOqUKrNVGrYfw\n\nUne autr
 e formation identique aura lieu le mardi 11 février de 18h30 à 20h30\, s
 i un horaire en soirée vous convient mieux (cf agenda du site).\n\nProgra
 mme de la formation :\n\n\n 	présentation rapide des participants\n 	quiz
  sur le label\n 	présentation du label\, de son fonctionnement\, de ses d
 éclinaisons\n 	questions\n 	présentation de la mission d’ambassadeur +
  présentation par un ambassadeur de ses actions\n 	questions\n 	bases de 
 l’œcuménisme pratique : quiz participatif\, questions/réponses\n 	mé
 ditation\n\n
ATTACH;FMTTYPE=image/jpeg:https://www.egliseverte.org/wp-content/uploads/2
 024/05/2024-05-Terre-dEsperance-scaled.jpg
LOCATION:https://us02web.zoom.us/meeting/register/y8hBUTCsQGOqUKrNVGrYfw
END:VEVENT
BEGIN:VTIMEZONE
TZID:Europe/Paris
X-LIC-LOCATION:Europe/Paris
BEGIN:STANDARD
DTSTART:20241027T020000
TZOFFSETFROM:+0200
TZOFFSETTO:+0100
TZNAME:CET
END:STANDARD
END:VTIMEZONE
END:VCALENDAR