BEGIN:VCALENDAR
VERSION:2.0
PRODID:-//wp-events-plugin.com//7.2.3.1//EN
TZID:Europe/Paris
X-WR-TIMEZONE:Europe/Paris
BEGIN:VEVENT
UID:426@egliseverte.org
DTSTART;TZID=Europe/Paris:20241119T120000
DTEND;TZID=Europe/Paris:20241119T140000
DTSTAMP:20241028T171730Z
URL:https://www.egliseverte.org/agenda/formation-initiale-ambassadeurs-egl
 ise-verte-journee-en-ligne/
SUMMARY:Formation initiale Ambassadeurs Église verte (journée - en ligne)
DESCRIPTION:Vous avez envie de découvrir la mission d’ambassadeur/ambass
 adrice Église verte et pourquoi pas\, de vous engager à l’issue de la 
 formation ? Venez assister à la formation initiale : 2h en ligne pour (re
 )découvrir le fonctionnement du label\, découvrir le rôle d’ambassade
 ur et quelques notions d’œcuménisme\, mardi 19 novembre de 12h à 14h.
  Vous pourrez poser toutes vos questions\, un quiz ouvrira la séance et n
 ous terminerons par une méditation.\n\nLa lettre d’engagement se trouve
  ici : https://www.egliseverte.org/wp-content/uploads/2024/03/Lettre-engag
 ement-ambassadeurs-Mars-2024.pdf\n\nPour s’inscrire\, c’est par là : 
 https://us02web.zoom.us/meeting/register/tZwucuugqzwrHtJzRsS7AA3UT47b6UocC
 mRs\n\nUne autre formation identique aura lieu le mercredi 20 novembre de 
 18h30 à 20h30\, si un horaire en soirée vous convient mieux (cf agenda d
 u site).
ATTACH;FMTTYPE=image/jpeg:https://www.egliseverte.org/wp-content/uploads/2
 024/05/2024-05-Terre-dEsperance-scaled.jpg
LOCATION:https://us02web.zoom.us/meeting/register/tZwtceCtrz4rGdTb5P6a5QOmt
 w7YAO-cuuXz#/registration
END:VEVENT
BEGIN:VTIMEZONE
TZID:Europe/Paris
X-LIC-LOCATION:Europe/Paris
BEGIN:STANDARD
DTSTART:20241027T020000
TZOFFSETFROM:+0200
TZOFFSETTO:+0100
TZNAME:CET
END:STANDARD
END:VTIMEZONE
END:VCALENDAR