BEGIN:VCALENDAR
VERSION:2.0
PRODID:-//wp-events-plugin.com//7.2.3.1//EN
TZID:Europe/Paris
X-WR-TIMEZONE:Europe/Paris
BEGIN:VEVENT
UID:439@egliseverte.org
DTSTART;TZID=Europe/Paris:20250211T183000
DTEND;TZID=Europe/Paris:20250211T203000
DTSTAMP:20250103T133240Z
URL:https://www.egliseverte.org/agenda/formation-initiale-ambassadeurs-egl
 ise-verte-soiree-en-ligne-fev25/
SUMMARY:Formation initiale Ambassadeurs Église verte (soirée - en ligne)
DESCRIPTION:Vous avez envie de découvrir la mission d’ambassadeur/ambass
 adrice Église verte et pourquoi pas\, de vous engager à l’issue de la 
 formation ? Venez assister à la formation initiale : 2h en ligne pour (re
 )découvrir le fonctionnement du label\, découvrir le rôle d’ambassade
 ur et quelques notions d’œcuménisme\, mardi 11 février de 18h30 à 20
 h30. Vous pourrez poser toutes vos questions\, un quiz ouvrira la séance 
 et nous terminerons par une méditation.\n\nLa lettre d’engagement se tr
 ouve ici : https://www.egliseverte.org/wp-content/uploads/2024/03/Lettre-e
 ngagement-ambassadeurs-Mars-2024.pdf\n\nPour s’inscrire\, c’est par l
 à : https://us02web.zoom.us/meeting/register/d_khLTgaT7OgqEkpa12H7Q\n\nUn
 e formation identique aura lieu le jeudi 6 février de 12h à 14h\, si un 
 horaire en journée vous convient mieux (cf agenda du site).\n\nProgramme 
 de la formation :\n\n\n 	présentation rapide des participants\n 	quiz sur
  le label\n 	présentation du label\, de son fonctionnement\, de ses décl
 inaisons\n 	questions\n 	présentation de la mission d’ambassadeur + pr
 ésentation par un ambassadeur de ses actions\n 	questions\n 	bases de l
 ’œcuménisme pratique : quiz participatif\, questions/réponses\n 	méd
 itation\n\n
ATTACH;FMTTYPE=image/jpeg:https://www.egliseverte.org/wp-content/uploads/2
 024/07/P1011235-scaled.jpg
LOCATION:https://us02web.zoom.us/meeting/register/d_khLTgaT7OgqEkpa12H7Q
END:VEVENT
BEGIN:VTIMEZONE
TZID:Europe/Paris
X-LIC-LOCATION:Europe/Paris
BEGIN:STANDARD
DTSTART:20241027T020000
TZOFFSETFROM:+0200
TZOFFSETTO:+0100
TZNAME:CET
END:STANDARD
END:VTIMEZONE
END:VCALENDAR