BEGIN:VCALENDAR
VERSION:2.0
PRODID:-//wp-events-plugin.com//7.2.3.1//EN
TZID:Europe/Paris
X-WR-TIMEZONE:Europe/Paris
BEGIN:VEVENT
UID:481@egliseverte.org
DTSTART;TZID=Europe/Paris:20250707T190000
DTEND;TZID=Europe/Paris:20250707T210000
DTSTAMP:20250506T134747Z
URL:https://www.egliseverte.org/agenda/formation-initiale-ambassadeurs-egl
 ise-verte-soiree-en-ligne-juil-25/
SUMMARY:Formation initiale Ambassadeurs Église verte (soirée - en ligne)
DESCRIPTION:Vous avez envie de découvrir la mission d’ambassadeur/ambass
 adrice Église verte et pourquoi pas\, de vous engager à l’issue de la 
 formation ? Venez assister à la formation initiale : 2h en ligne pour (re
 )découvrir le fonctionnement du label\, découvrir le rôle d’ambassade
 ur et quelques notions d’œcuménisme\, lundi di 7 juillet de 19h à 21h
 . Vous pourrez poser toutes vos questions\, un quiz ouvrira la séance et 
 nous terminerons par une méditation.\n\nLa lettre d’engagement se trouv
 e ici : https://www.egliseverte.org/wp-content/uploads/2024/03/Lettre-enga
 gement-ambassadeurs-Mars-2024.pdf\n\nCette mission s'adresse à des person
 nes ayant déjà l'expérience du bénévolat/travail en église et/ou sur
  les sujets écologiques. Si vous souhaitez lancer Église verte dans votr
 e paroisse ou simplement découvrir le label\, vous êtes les bienvenus\, 
 mais la mission d'ambassadeur ne sera pas la bonne pour débuter votre eng
 agement.\n\nPour s’inscrire\, c’est par là : https://us02web.zoom.us/
 meeting/register/274bYFz4ToeuDYVEpehbhg\n\nUne formation identique aura li
 eu le jeudi 3 juillet de 12h à 14h\, si un horaire en journée vous convi
 ent mieux (cf agenda du site).\n\nProgramme de la formation :\n\n\n 	prés
 entation rapide des participants\n 	quiz sur le label\n 	présentation du 
 label\, de son fonctionnement\, de ses déclinaisons\n 	questions\n 	prés
 entation de la mission d’ambassadeur + présentation par un ambassadeur 
 de ses actions\n 	questions\n 	bases de l’œcuménisme pratique : quiz p
 articipatif\, questions/réponses\n 	méditation\n\n
ATTACH;FMTTYPE=image/jpeg:https://www.egliseverte.org/wp-content/uploads/2
 024/07/P1011235-scaled.jpg
LOCATION:https://us02web.zoom.us/meeting/register/274bYFz4ToeuDYVEpehbhg
END:VEVENT
BEGIN:VTIMEZONE
TZID:Europe/Paris
X-LIC-LOCATION:Europe/Paris
BEGIN:DAYLIGHT
DTSTART:20250330T030000
TZOFFSETFROM:+0100
TZOFFSETTO:+0200
TZNAME:CEST
END:DAYLIGHT
END:VTIMEZONE
END:VCALENDAR