BEGIN:VCALENDAR
VERSION:2.0
PRODID:-//wp-events-plugin.com//7.2.3.1//EN
TZID:Europe/Paris
X-WR-TIMEZONE:Europe/Paris
BEGIN:VEVENT
UID:288@egliseverte.org
DTSTART;TZID=Europe/Paris:20231128T203000
DTEND;TZID=Europe/Paris:20231128T213000
DTSTAMP:20231120T161825Z
URL:https://www.egliseverte.org/agenda/formation-initiale-ambassadeurs-egl
 ise-verte-soiree-en-ligne-nov-23/
SUMMARY:Formation initiale Ambassadeurs Église verte (soirée - en ligne)
DESCRIPTION:Vous avez envie de découvrir la mission d’ambassadeur/ambass
 adrice Église verte et pourquoi pas\, de vous engager à l’issue de la 
 formation ? Venez assister à la formation initiale : 1h en ligne pour red
 écouvrir le fonctionnement du label et découvrir le rôle d’ambassadeu
 r\, mardi 28 novembre de 20h30 à 21h30. Vous pourrez poser toutes vos que
 stions\, un quiz ouvrira la séance et nous terminerons par une méditatio
 n.\n\nLa lettre d’engagement se trouve ici : https://www.egliseverte.org
 /wp-content/uploads/2022/03/Lettre-dengagement-Ambassadeurs-Ambassadrices-
 %C3%89glise-verte.pdf\n\nPour s’inscrire\, c’est par là : https://us0
 2web.zoom.us/meeting/register/tZApdOCprDssH9Va42a_50zaIteFqa6_jPsl\n\nUne 
 autre formation identique aura lieu le jeudi 30 novembre de 14h30 à 15h30
 \, si un horaire en journée vous convient mieux (cf agenda du site).
ATTACH;FMTTYPE=image/jpeg:https://www.egliseverte.org/wp-content/uploads/2
 022/06/Logo-Telegram.png
LOCATION:https://us02web.zoom.us/meeting/register/tZApdOCprDssH9Va42a_50zaI
 teFqa6_jPsl
END:VEVENT
BEGIN:VTIMEZONE
TZID:Europe/Paris
X-LIC-LOCATION:Europe/Paris
BEGIN:STANDARD
DTSTART:20231029T020000
TZOFFSETFROM:+0200
TZOFFSETTO:+0100
TZNAME:CET
END:STANDARD
END:VTIMEZONE
END:VCALENDAR