BEGIN:VCALENDAR
VERSION:2.0
PRODID:-//wp-events-plugin.com//7.2.3.1//EN
TZID:Europe/Paris
X-WR-TIMEZONE:Europe/Paris
BEGIN:VEVENT
UID:606@egliseverte.org
DTSTART;TZID=Europe/Paris:20251126T190000
DTEND;TZID=Europe/Paris:20251126T210000
DTSTAMP:20251027T154221Z
URL:https://www.egliseverte.org/agenda/formation-initiale-ambassadeurs-egl
 ise-verte-soiree-en-ligne-nov-25/
SUMMARY:Formation initiale Ambassadeurs Église verte (soirée - en ligne)
DESCRIPTION:Vous avez envie de découvrir la mission d’ambassadeur/ambass
 adrice Église verte et pourquoi pas\, de vous engager à l’issue de la 
 formation dans votre département ? Venez assister à la formation initial
 e : 2h en ligne pour (re)découvrir le fonctionnement du label\, découvri
 r le rôle d’ambassadeur et quelques notions d’œcuménisme\, mercredi
  26 novembre de 19h à 21h. Vous pourrez poser toutes vos questions\, un q
 uiz ouvrira la séance et nous terminerons par une méditation (et pas de 
 problème pour manger devant votre écran !).\n\nLa lettre d’engagement 
 se trouve ici : https://www.egliseverte.org/wp-content/uploads/2024/03/Let
 tre-engagement-ambassadeurs-Mars-2024.pdf\n\nCette mission s'adresse à de
 s personnes ayant déjà l'expérience du bénévolat/travail en église e
 t/ou sur les sujets écologiques. Si vous souhaitez lancer Église verte d
 ans votre paroisse ou simplement découvrir le label\, vous êtes les bien
 venus\, mais la mission d'ambassadeur ne sera pas la bonne pour débuter v
 otre engagement.\n\nPour s’inscrire\, c’est par là : https://us02web.
 zoom.us/meeting/register/dH1hWYGNRS-pPy9Anf1YaA\n\nUne formation identique
  aura lieu le lundi 24 novembre de 12h à 14h\, si un horaire en journée 
 vous convient mieux (cf agenda du site).\n\nProgramme de la formation :\n\
 n\n 	présentation rapide des participants\n 	quiz sur le label\n 	présen
 tation du label\, de son fonctionnement\, de ses déclinaisons\n 	question
 s\n 	présentation de la mission d’ambassadeur + présentation par un am
 bassadeur de ses actions\n 	questions\n 	bases de l’œcuménisme pratiqu
 e : quiz participatif\, questions/réponses\n 	méditation\n\n
ATTACH;FMTTYPE=image/jpeg:https://www.egliseverte.org/wp-content/uploads/2
 024/07/P1011235-scaled.jpg
LOCATION:https://us02web.zoom.us/meeting/register/dH1hWYGNRS-pPy9Anf1YaA
END:VEVENT
BEGIN:VTIMEZONE
TZID:Europe/Paris
X-LIC-LOCATION:Europe/Paris
BEGIN:STANDARD
DTSTART:20251026T020000
TZOFFSETFROM:+0200
TZOFFSETTO:+0100
TZNAME:CET
END:STANDARD
END:VTIMEZONE
END:VCALENDAR