BEGIN:VCALENDAR
VERSION:2.0
PRODID:-//wp-events-plugin.com//7.2.3.1//EN
TZID:Europe/Paris
X-WR-TIMEZONE:Europe/Paris
BEGIN:VEVENT
UID:425@egliseverte.org
DTSTART;TZID=Europe/Paris:20241120T183000
DTEND;TZID=Europe/Paris:20241120T203000
DTSTAMP:20241028T172541Z
URL:https://www.egliseverte.org/agenda/formation-initiale-ambassadeurs-egl
 ise-verte-soiree-en-ligne/
SUMMARY:Formation initiale Ambassadeurs Église verte (soirée - en ligne)
DESCRIPTION:Vous avez envie de découvrir la mission d’ambassadeur/ambass
 adrice Église verte et pourquoi pas\, de vous engager à l’issue de la 
 formation ? Venez assister à la formation initiale : 2h en ligne pour (re
 )découvrir le fonctionnement du label\, découvrir le rôle d’ambassade
 ur et quelques notions d’œcuménisme\, mercredi 20 novembre de 18h30 à
  20h30. Vous pourrez poser toutes vos questions\, un quiz ouvrira la séan
 ce et nous terminerons par une méditation.\n\nLa lettre d’engagement se
  trouve ici : https://www.egliseverte.org/wp-content/uploads/2024/03/Lettr
 e-engagement-ambassadeurs-Mars-2024.pdf\n\nPour s’inscrire\, c’est par
  là : https://us02web.zoom.us/meeting/register/tZwucuugqzwrHtJzRsS7AA3UT4
 7b6UocCmRs\n\nUne autre formation identique aura lieu le mardi 19 novembre
  de 12h à 14h\, si un horaire en journée vous convient mieux (cf agenda 
 du site).
ATTACH;FMTTYPE=image/jpeg:https://www.egliseverte.org/wp-content/uploads/2
 024/07/P1011235-scaled.jpg
LOCATION:https://us02web.zoom.us/meeting/register/tZwucuugqzwrHtJzRsS7AA3UT
 47b6UocCmRs
END:VEVENT
BEGIN:VTIMEZONE
TZID:Europe/Paris
X-LIC-LOCATION:Europe/Paris
BEGIN:STANDARD
DTSTART:20241027T020000
TZOFFSETFROM:+0200
TZOFFSETTO:+0100
TZNAME:CET
END:STANDARD
END:VTIMEZONE
END:VCALENDAR