BEGIN:VCALENDAR
VERSION:2.0
PRODID:-//wp-events-plugin.com//7.2.3.1//EN
TZID:Europe/Paris
X-WR-TIMEZONE:Europe/Paris
BEGIN:VEVENT
UID:638@egliseverte.org
DTSTART;TZID=Europe/Paris:20260325T120000
DTEND;TZID=Europe/Paris:20260325T140000
DTSTAMP:20260128T144158Z
URL:https://www.egliseverte.org/agenda/formation-initiale-ambassadeurs-jou
 rnee-mars26/
SUMMARY:Formation initiale Ambassadeurs Église verte (journée - en ligne)
DESCRIPTION:Vous avez envie de découvrir la mission d’ambassadeur/ambass
 adrice Église verte et pourquoi pas\, de vous engager dans votre départe
 ment à l’issue de la formation ? Venez assister à la formation initial
 e : 2h en ligne pour (re)découvrir le fonctionnement du label\, découvri
 r le rôle d’ambassadeur et quelques notions d’œcuménisme\, mercredi
  25 de 12h à 14h. Vous pourrez poser toutes vos questions\, un quiz ouvri
 ra la séance et nous terminerons par une méditation (et pas de problème
  pour manger devant votre écran !).\n\nLa lettre d’engagement se trouve
  ici : https://www.egliseverte.org/wp-content/uploads/2024/03/Lettre-engag
 ement-ambassadeurs-Mars-2024.pdf\n\nCette mission s'adresse à des personn
 es ayant déjà l'expérience du bénévolat/travail en église et/ou sur 
 les sujets écologiques. Si vous souhaitez lancer Église verte dans votre
  paroisse ou simplement découvrir le label\, vous êtes les bienvenus\, m
 ais la mission d'ambassadeur ne sera pas la bonne pour débuter votre enga
 gement.\n\nPour s’inscrire\, c’est par là : https://us02web.zoom.us/m
 eeting/register/Bh1adrbeROu1TCZVaqCWqg\n\nUne autre formation identique au
 ra lieu le mardi précédent de 19h à 21h\, si un horaire en soirée vous
  convient mieux (cf agenda du site).\n\nProgramme de la formation :\n\n\n 
 	présentation rapide des participants\n 	quiz sur le label\n 	présentati
 on du label\, de son fonctionnement\, de ses déclinaisons\n 	questions\n 
 	présentation de la mission d’ambassadeur + présentation par un ambass
 adeur de ses actions\n 	questions\n 	bases de l’œcuménisme pratique : 
 quiz participatif\, questions/réponses\n 	méditation\n\n
ATTACH;FMTTYPE=image/jpeg:https://www.egliseverte.org/wp-content/uploads/2
 025/10/IMG_4826-scaled.jpg
LOCATION:https://us02web.zoom.us/meeting/register/Bh1adrbeROu1TCZVaqCWqg
END:VEVENT
BEGIN:VTIMEZONE
TZID:Europe/Paris
X-LIC-LOCATION:Europe/Paris
BEGIN:STANDARD
DTSTART:20251026T020000
TZOFFSETFROM:+0200
TZOFFSETTO:+0100
TZNAME:CET
END:STANDARD
END:VTIMEZONE
END:VCALENDAR