BEGIN:VCALENDAR
VERSION:2.0
PRODID:-//wp-events-plugin.com//7.2.3.1//EN
TZID:Europe/Paris
X-WR-TIMEZONE:Europe/Paris
BEGIN:VEVENT
UID:306@egliseverte.org
DTSTART;TZID=Europe/Paris:20240316T000000
DTEND;TZID=Europe/Paris:20240316T000000
DTSTAMP:20240226T112508Z
URL:https://www.egliseverte.org/agenda/fresque-de-la-semence-et-de-la-biod
 iversite-27/
SUMMARY:Fresque de la Semence et de la Biodiversité (27)
DESCRIPTION:Fresque de la semence et de la biodiversité à partir de 14h30
  Salle Saint Augustin\, organisée par le CCFD-Terre solidaire\n\nhttp://w
 ww.paroisse-saintjeanbaptiste-evreux.com/agenda/fresque-de-la-semence-et-d
 e-la-biodiversite.html
ATTACH;FMTTYPE=image/jpeg:https://www.egliseverte.org/wp-content/uploads/2
 024/02/Flyer-Fresque-semences-et-biodiversite-Evreux-De-la-semence-a-lassi
 ette-VF2-affiche.jpg
LOCATION:Eglise Saint Michel\, 4 rue du Panorama\, Evreux\, Eure\, 27000\, 
 Normandie\, France
X-APPLE-STRUCTURED-LOCATION;VALUE=URI;X-ADDRESS=4 rue du Panorama\, Evreux\
 , Eure\, 27000\, Normandie\, France;X-APPLE-RADIUS=100;X-TITLE=Eglise Sain
 t Michel:geo:0,0
END:VEVENT
BEGIN:VTIMEZONE
TZID:Europe/Paris
X-LIC-LOCATION:Europe/Paris
BEGIN:STANDARD
DTSTART:20231029T020000
TZOFFSETFROM:+0200
TZOFFSETTO:+0100
TZNAME:CET
END:STANDARD
END:VTIMEZONE
END:VCALENDAR