BEGIN:VCALENDAR
VERSION:2.0
PRODID:-//wp-events-plugin.com//7.2.3.1//EN
TZID:Europe/Paris
X-WR-TIMEZONE:Europe/Paris
BEGIN:VEVENT
UID:267@egliseverte.org
DTSTART;TZID=Europe/Paris:20230326T150000
DTEND;TZID=Europe/Paris:20230326T180000
DTSTAMP:20231120T160800Z
URL:https://www.egliseverte.org/agenda/fresque-du-climat-a-sucy-94/
SUMMARY:Fresque du Climat à Sucy (94)
DESCRIPTION:3 heures pour comprendre les changements climatiques.\nVous vou
 lez agir pour le climat mais n’avez pas le temps de devenir climatologue
  ?\nEn 3 heures\, l’atelier collaboratif « la Fresque du Climat » perm
 et de comprendre l’essentiel des enjeux climatiques pour passer à l’a
 ction.
ATTACH;FMTTYPE=image/jpeg:https://www.egliseverte.org/wp-content/uploads/2
 023/03/Fresqueclimat2-Batignolles-PARIS-Juliette-Maupas-scaled.jpg
LOCATION:Eglise sainte bernadette Sucy en brie\, avenue du fort\, Sucy en b
 rie\, france\, 94370\, France
GEO:48.769378;2.533496
X-APPLE-STRUCTURED-LOCATION;VALUE=URI;X-ADDRESS=avenue du fort\, Sucy en br
 ie\, france\, 94370\, France;X-APPLE-RADIUS=100;X-TITLE=Eglise sainte bern
 adette Sucy en brie:geo:48.769378,2.533496
END:VEVENT
BEGIN:VTIMEZONE
TZID:Europe/Paris
X-LIC-LOCATION:Europe/Paris
BEGIN:DAYLIGHT
DTSTART:20230326T030000
TZOFFSETFROM:+0100
TZOFFSETTO:+0200
TZNAME:CEST
END:DAYLIGHT
END:VTIMEZONE
END:VCALENDAR