BEGIN:VCALENDAR
VERSION:2.0
PRODID:-//wp-events-plugin.com//7.2.3.1//EN
TZID:Europe/Paris
X-WR-TIMEZONE:Europe/Paris
BEGIN:VEVENT
UID:418@egliseverte.org
DTSTART;TZID=Europe/Paris:20241022T200000
DTEND;TZID=Europe/Paris:20241022T223000
DTSTAMP:20241015T092208Z
URL:https://www.egliseverte.org/agenda/fresque-oceane-13/
SUMMARY:Fresque Océane (13)
DESCRIPTION:L'atelier de la Fresque Océane sensibilise de manière systém
 ique aux enjeux liés à l’Océan et aux impacts de nos activités sur c
 et écosystème afin de donner des clés pour agir !\n\nLa fresque s'adres
 se aux adultes et adolescents.\nSur inscription uniquement (écrire à hay
 nes.isabelle@gmail.com)\nAnimatrice payée au chapeau.
ATTACH;FMTTYPE=image/jpeg:https://www.egliseverte.org/wp-content/uploads/2
 024/10/logo-PHM-fond-blanc1.png
LOCATION:Salle paroissiale\, 29 rue Stanislas Torrents\, Marseille\, 13006\
 , France
X-APPLE-STRUCTURED-LOCATION;VALUE=URI;X-ADDRESS=29 rue Stanislas Torrents\,
  Marseille\, 13006\, France;X-APPLE-RADIUS=100;X-TITLE=Salle paroissiale:g
 eo:0,0
END:VEVENT
BEGIN:VTIMEZONE
TZID:Europe/Paris
X-LIC-LOCATION:Europe/Paris
BEGIN:DAYLIGHT
DTSTART:20240331T030000
TZOFFSETFROM:+0100
TZOFFSETTO:+0200
TZNAME:CEST
END:DAYLIGHT
END:VTIMEZONE
END:VCALENDAR