BEGIN:VCALENDAR
VERSION:2.0
PRODID:-//wp-events-plugin.com//7.2.3.1//EN
TZID:Europe/Paris
X-WR-TIMEZONE:Europe/Paris
BEGIN:VEVENT
UID:478@egliseverte.org
DTSTART;TZID=Europe/Paris:20250705T180000
DTEND;TZID=Europe/Paris:20250711T090000
DTSTAMP:20250505T091227Z
URL:https://www.egliseverte.org/agenda/gouter-a-lecologie-en-montagne/
SUMMARY:Goûter à l'écologie en montagne
DESCRIPTION:S’émerveiller et se reconnecter avec la création\, approfon
 dir l’éco-spiritualité chrétienne\, s’ancrer dans l’espérance se
 lon Laudato si’.\n\nMarcher en montagne (3 à 4 heures de marche par jou
 r sur 200-600 mètres de dénivelé \; prévoir des chaussures adaptées 
 à des chemins caillouteux).\nPrendre le temps de s’arrêter pour contem
 pler la création.\nOuvrir tous ses sens à ce qui nous entoure\, vivre de
 s expériences sensibles.\nSe laisser toucher par la nature et y découvri
 r la présence de Dieu.\nLaisser résonner des textes bibliques et entrer 
 dans une nouvelle relation à la création.\n\nSorties à la journée et h
 ébergement à Saint-Hugues.\n\nhttps://www.sainthugues.fr/gouter-a-lecolo
 gie-integrale-en-montagne-05-07-2025/
ATTACH;FMTTYPE=image/jpeg:https://www.egliseverte.org/wp-content/uploads/2
 025/05/Gouter-a-lecologie-integrale-en-montagne.jpg
LOCATION:Centre spirituel Saint-Hugues\, 313 Chem. de Billerey\, Biviers\, 
 38330\, France
GEO:45.23494;5.790398
X-APPLE-STRUCTURED-LOCATION;VALUE=URI;X-ADDRESS=313 Chem. de Billerey\, Biv
 iers\, 38330\, France;X-APPLE-RADIUS=100;X-TITLE=Centre spirituel Saint-Hu
 gues:geo:45.23494,5.790398
END:VEVENT
BEGIN:VTIMEZONE
TZID:Europe/Paris
X-LIC-LOCATION:Europe/Paris
BEGIN:DAYLIGHT
DTSTART:20250330T030000
TZOFFSETFROM:+0100
TZOFFSETTO:+0200
TZNAME:CEST
END:DAYLIGHT
END:VTIMEZONE
END:VCALENDAR