BEGIN:VCALENDAR
VERSION:2.0
PRODID:-//wp-events-plugin.com//7.2.3.1//EN
TZID:Europe/Paris
X-WR-TIMEZONE:Europe/Paris
BEGIN:VEVENT
UID:251@egliseverte.org
DTSTART;TZID=Europe/Paris:20230121T180000
DTEND;TZID=Europe/Paris:20230121T190000
DTSTAMP:20231120T160746Z
URL:https://www.egliseverte.org/agenda/celebration-oecumenique-pour-la-cre
 ation-75/
SUMMARY:Célébration œcuménique pour la Création (75)
DESCRIPTION:À l’occasion de la Semaine de prière pour l’unité des ch
 rétiens du 18 au 25 janvier\, des chrétiens des quartiers Belleville-Mé
 nilmontant vous invitent à une célébration œcuménique pour la Créati
 on le samedi 21 janvier à 18 h\, à l’église Notre-Dame de la Croix\, 
 3\, place de Ménilmontant\, Paris 20è.\nLa célébration est organisée 
 par la paroisse catholique Notre-Dame de la Croix\, l’Église protestant
 e unie de Paris-Belleville\, l’Église protestante évangélique de Tél
 égraphe et la paroisse orthodoxe de la cathédrale de la Sainte-Trinité.
  Un atelier ouvert à toutes et tous est proposé le samedi 14 janvier à 
 14h30 (salle Isaïe à N.D. de la Croix) pour se rencontrer et préparer l
 a célébration. Soyez bienvenus.
ATTACH;FMTTYPE=image/jpeg:https://www.egliseverte.org/wp-content/uploads/2
 023/01/affiche-celebration-oecumenique_pages-to-jpg-0001.jpg
LOCATION:Eglise catholique Notre-Dame de la Croix -Paris Ménilmontant\, 3 
 place de Ménilmontant\, Paris\, France\, 75020\, France
GEO:48.868701;2.38792
X-APPLE-STRUCTURED-LOCATION;VALUE=URI;X-ADDRESS=3 place de Ménilmontant\, 
 Paris\, France\, 75020\, France;X-APPLE-RADIUS=100;X-TITLE=Eglise catholiq
 ue Notre-Dame de la Croix -Paris Ménilmontant:geo:48.868701,2.38792
END:VEVENT
BEGIN:VTIMEZONE
TZID:Europe/Paris
X-LIC-LOCATION:Europe/Paris
BEGIN:STANDARD
DTSTART:20221030T020000
TZOFFSETFROM:+0200
TZOFFSETTO:+0100
TZNAME:CET
END:STANDARD
END:VTIMEZONE
END:VCALENDAR