BEGIN:VCALENDAR
VERSION:2.0
PRODID:-//wp-events-plugin.com//7.2.3.1//EN
TZID:Europe/Paris
X-WR-TIMEZONE:Europe/Paris
BEGIN:VEVENT
UID:569@egliseverte.org
DTSTART;TZID=Europe/Paris:20251002T170000
DTEND;TZID=Europe/Paris:20251002T170000
DTSTAMP:20250915T104302Z
URL:https://www.egliseverte.org/agenda/inauguration-label-cep-de-vigne/
SUMMARY:Inauguration Label Cep de vigne
DESCRIPTION:https://diocese15.fr/agenda/mois-de-la-creation/
ATTACH;FMTTYPE=image/jpeg:https://www.egliseverte.org/wp-content/uploads/2
 024/02/cep.jpg
LOCATION:Maison diocésaine Saint Paul\, 18 bis rue du Cayla \, Aurillac \,
  Cantal \, 15000\, France
GEO:44.920587;2.43728
X-APPLE-STRUCTURED-LOCATION;VALUE=URI;X-ADDRESS=18 bis rue du Cayla \, Auri
 llac \, Cantal \, 15000\, France;X-APPLE-RADIUS=100;X-TITLE=Maison diocés
 aine Saint Paul:geo:44.920587,2.43728
END:VEVENT
BEGIN:VTIMEZONE
TZID:Europe/Paris
X-LIC-LOCATION:Europe/Paris
BEGIN:DAYLIGHT
DTSTART:20250330T030000
TZOFFSETFROM:+0100
TZOFFSETTO:+0200
TZNAME:CEST
END:DAYLIGHT
END:VTIMEZONE
END:VCALENDAR