BEGIN:VCALENDAR
VERSION:2.0
PRODID:-//wp-events-plugin.com//7.2.3.1//EN
TZID:Europe/Paris
X-WR-TIMEZONE:Europe/Paris
BEGIN:VEVENT
UID:577@egliseverte.org
DTSTART;TZID=Europe/Paris:20250930T203000
DTEND;TZID=Europe/Paris:20250930T220000
DTSTAMP:20250921T141324Z
URL:https://www.egliseverte.org/agenda/jardin-artisan-de-paix-fpf/
SUMMARY:Le jardin\, un artisan de paix ? Un webinaire de la Fédération Pr
 otestante de France
DESCRIPTION:La Commission Ecologie et Justice climatique de la Fédération
  Protestante de France et le réseau protestant Espérer pour le vivant vo
 us invitent à rencontrer le théologien et botaniste Otto SCHAEFER et l'e
 ntomologiste et écologue Alain FERRE\, pour évoquer les richesses mais a
 ussi les limites de la métaphore du "Jardin de paix". Animé par le paste
 ur Jean-Sébastien INGRAND\, ce webinaire nous permettra d'explorer ce th
 ème\, proposé pour le Temps pour la création 2025\, dans un dialogue ou
 verte et constructif entre science et foi.\n\nS'inscrire\n\n&nbsp\;
ATTACH;FMTTYPE=image/jpeg:https://www.egliseverte.org/wp-content/uploads/2
 025/09/WebinaireFPF_TpC2025.jpg
LOCATION:https://framaforms.org/webinaire-le-jardin-artisan-de-paix-inscrip
 tions-1758187320
END:VEVENT
BEGIN:VTIMEZONE
TZID:Europe/Paris
X-LIC-LOCATION:Europe/Paris
BEGIN:DAYLIGHT
DTSTART:20250330T030000
TZOFFSETFROM:+0100
TZOFFSETTO:+0200
TZNAME:CEST
END:DAYLIGHT
END:VTIMEZONE
END:VCALENDAR