BEGIN:VCALENDAR
VERSION:2.0
PRODID:-//wp-events-plugin.com//7.2.3.1//EN
TZID:Europe/Paris
X-WR-TIMEZONE:Europe/Paris
BEGIN:VEVENT
UID:340@egliseverte.org
DTSTART;TZID=Europe/Paris:20240930T200000
DTEND;TZID=Europe/Paris:20241021T200000
DTSTAMP:20240711T104511Z
URL:https://www.egliseverte.org/agenda/jouer-au-jeu-ma-petite-planete-2/
SUMMARY:Jouer au jeu Ma Petite Planète
DESCRIPTION:Le challenge Ma petite planète a lieu 3 fois dans l’année e
 n automne\, en hiver et au printemps. L'édition d'automne démarrera le 3
 0 septembre pour 3 semaines.\n\nEn savoir plus avec la vidéo Église vert
 e "Organiser le défi Ma Petite Planète dans votre communauté"\nVoir la 
 vidéo\nDécouvrir le bilan de l’édition de janvier 2024 avec 15 commun
 autés Église verte participantes (dont 1 groupe Église verte familles)\
 nLire l'article\nPour participer au jeu Ma Petite Planète avec Église ve
 rte\, vous pouvez contacter Delphine de Monjour : delphine[a]egliseverte.o
 rg.
ATTACH;FMTTYPE=image/jpeg:https://www.egliseverte.org/wp-content/uploads/2
 024/05/MPP7.jpg
LOCATION:https://www.egliseverte.org/actualites/prochaine-edition-ma-petite
 -planete/
END:VEVENT
BEGIN:VTIMEZONE
TZID:Europe/Paris
X-LIC-LOCATION:Europe/Paris
BEGIN:DAYLIGHT
DTSTART:20240331T030000
TZOFFSETFROM:+0100
TZOFFSETTO:+0200
TZNAME:CEST
END:DAYLIGHT
END:VTIMEZONE
END:VCALENDAR