BEGIN:VCALENDAR
VERSION:2.0
PRODID:-//wp-events-plugin.com//7.2.3.1//EN
TZID:Europe/Paris
X-WR-TIMEZONE:Europe/Paris
BEGIN:VEVENT
UID:441@egliseverte.org
DTSTART;TZID=Europe/Paris:20250526T200000
DTEND;TZID=Europe/Paris:20250616T200000
DTSTAMP:20250527T123434Z
URL:https://www.egliseverte.org/agenda/jouer-au-jeu-ma-petite-planete-4/
SUMMARY:Jouer au jeu Ma Petite Planète
DESCRIPTION:Le challenge Ma petite planète a lieu 3 fois dans l’année e
 n automne\, en hiver et au printemps. L'édition de printemps démarrera l
 e 26 mai 2025 pour 3 semaines.\n\nDepuis janvier 2024\, Église verte prop
 ose aux communautés labellisées et au groupe Église verte familles de p
 articiper à ce challenge. Pour en savoir plus\, consultez cette page : D
 éfi Ma Petite Planète\net découvrez le bilan des précédentes édition
 s : Édition de janvier 2024 - Édition de mai 2024 - Édition de septembr
 e 2024\nPour plus d'information\, vous pouvez contacter Delphine de Monjou
 r : delphine[a]egliseverte.org.
ATTACH;FMTTYPE=image/jpeg:https://www.egliseverte.org/wp-content/uploads/2
 024/05/MPP7.jpg
LOCATION:https://www.egliseverte.org/fiche/defi-ma-petite-planete/
END:VEVENT
BEGIN:VTIMEZONE
TZID:Europe/Paris
X-LIC-LOCATION:Europe/Paris
BEGIN:DAYLIGHT
DTSTART:20250330T030000
TZOFFSETFROM:+0100
TZOFFSETTO:+0200
TZNAME:CEST
END:DAYLIGHT
END:VTIMEZONE
END:VCALENDAR